BEGIN:VCALENDAR
VERSION:2.0
PRODID:-//Autumn&#039;s Gate - ECPv6.15.20//NONSGML v1.0//EN
CALSCALE:GREGORIAN
METHOD:PUBLISH
X-ORIGINAL-URL:https://autumnsgate.com
X-WR-CALDESC:Events for Autumn&#039;s Gate
REFRESH-INTERVAL;VALUE=DURATION:PT1H
X-Robots-Tag:noindex
X-PUBLISHED-TTL:PT1H
BEGIN:VTIMEZONE
TZID:America/New_York
BEGIN:DAYLIGHT
TZOFFSETFROM:-0500
TZOFFSETTO:-0400
TZNAME:EDT
DTSTART:20250309T070000
END:DAYLIGHT
BEGIN:STANDARD
TZOFFSETFROM:-0400
TZOFFSETTO:-0500
TZNAME:EST
DTSTART:20251102T060000
END:STANDARD
BEGIN:DAYLIGHT
TZOFFSETFROM:-0500
TZOFFSETTO:-0400
TZNAME:EDT
DTSTART:20260308T070000
END:DAYLIGHT
BEGIN:STANDARD
TZOFFSETFROM:-0400
TZOFFSETTO:-0500
TZNAME:EST
DTSTART:20261101T060000
END:STANDARD
BEGIN:DAYLIGHT
TZOFFSETFROM:-0500
TZOFFSETTO:-0400
TZNAME:EDT
DTSTART:20270314T070000
END:DAYLIGHT
BEGIN:STANDARD
TZOFFSETFROM:-0400
TZOFFSETTO:-0500
TZNAME:EST
DTSTART:20271107T060000
END:STANDARD
END:VTIMEZONE
BEGIN:VEVENT
DTSTART;TZID=America/New_York:20261003T120000
DTEND;TZID=America/New_York:20261003T130000
DTSTAMP:20260425T222849
CREATED:20240120T004725Z
LAST-MODIFIED:20240122T002247Z
UID:10022773-1791028800-1791032400@autumnsgate.com
SUMMARY:Horseback Riding 12pm-Ride
DESCRIPTION:Join the Adventure
URL:https://autumnsgate.com/event/horseback-riding-10am-ride-2/2026-10-03/
LOCATION:Autumn’s Gate\, 1956 Balmer Road\, Ransomville\, NY\, 14131\, United States
CATEGORIES:Designed for Age: 16+,Designed for Ages: 12-16,Designed for Ages: 4+,Designed for Ages: 6-12,Horseback Riding
ATTACH;FMTTYPE=image/jpeg:https://autumnsgate.com/wp-content/uploads/2024/01/6-scaled.jpg
ORGANIZER;CN="Autumn's Gate":MAILTO:sales@autumnsgate.com
END:VEVENT
BEGIN:VEVENT
DTSTART;TZID=America/New_York:20261003T130000
DTEND;TZID=America/New_York:20261003T150000
DTSTAMP:20260425T222849
CREATED:20250117T134927Z
LAST-MODIFIED:20250117T134927Z
UID:10023782-1791032400-1791039600@autumnsgate.com
SUMMARY:Farmtastic Birthday Party
DESCRIPTION:
URL:https://autumnsgate.com/event/farmtastic-birthday-party-2/2026-10-03/
LOCATION:Autumn’s Gate\, 1956 Balmer Road\, Ransomville\, NY\, 14131\, United States
ATTACH;FMTTYPE=image/jpeg:https://autumnsgate.com/wp-content/uploads/2024/01/bDay23-Farm-scaled.jpg
ORGANIZER;CN="Autumn's Gate":MAILTO:sales@autumnsgate.com
END:VEVENT
BEGIN:VEVENT
DTSTART;TZID=America/New_York:20261003T160000
DTEND;TZID=America/New_York:20261003T180000
DTSTAMP:20260425T222849
CREATED:20240120T220724Z
LAST-MODIFIED:20240120T220724Z
UID:10021928-1791043200-1791050400@autumnsgate.com
SUMMARY:Date Night Couples Ride
DESCRIPTION:
URL:https://autumnsgate.com/event/date-night-couples-ride/2026-10-03/
LOCATION:Autumn’s Gate\, 1956 Balmer Road\, Ransomville\, NY\, 14131\, United States
CATEGORIES:Horseback Riding
ATTACH;FMTTYPE=image/jpeg:https://autumnsgate.com/wp-content/uploads/2024/01/11-scaled.jpg
ORGANIZER;CN="Autumn's Gate":MAILTO:sales@autumnsgate.com
END:VEVENT
BEGIN:VEVENT
DTSTART;TZID=America/New_York:20261004T080000
DTEND;TZID=America/New_York:20261004T170000
DTSTAMP:20260425T222849
CREATED:20260107T183238Z
LAST-MODIFIED:20260107T183238Z
UID:10024259-1791100800-1791133200@autumnsgate.com
SUMMARY:Autumn's Gate Horse Show
DESCRIPTION:More details to follow
URL:https://autumnsgate.com/event/autumns-gate-horse-show-7/
LOCATION:Autumn’s Gate\, 1956 Balmer Road\, Ransomville\, NY\, 14131\, United States
ORGANIZER;CN="Autumn's Gate":MAILTO:sales@autumnsgate.com
END:VEVENT
BEGIN:VEVENT
DTSTART;TZID=America/New_York:20261004T100000
DTEND;TZID=America/New_York:20261004T110000
DTSTAMP:20260425T222849
CREATED:20240119T085211Z
LAST-MODIFIED:20240119T215552Z
UID:10002176-1791108000-1791111600@autumnsgate.com
SUMMARY:Toddler & Me Horseback Riding
DESCRIPTION:Horseback Riding & Farm Fun Activities for Toddlers​ and Kids up to age 10
URL:https://autumnsgate.com/event/toddler-me-horseback-riding/2026-10-04/
LOCATION:Autumn’s Gate\, 1956 Balmer Road\, Ransomville\, NY\, 14131\, United States
CATEGORIES:Horseback Riding,Toddler & Me Horseback Riding
ATTACH;FMTTYPE=image/jpeg:https://autumnsgate.com/wp-content/uploads/2024/01/c5d70b43d65edd5b4ba650d56e4d6e15.jpg
ORGANIZER;CN="Autumn's Gate":MAILTO:sales@autumnsgate.com
END:VEVENT
BEGIN:VEVENT
DTSTART;TZID=America/New_York:20261004T120000
DTEND;TZID=America/New_York:20261004T130000
DTSTAMP:20260425T222849
CREATED:20240120T004725Z
LAST-MODIFIED:20240122T002247Z
UID:10019172-1791115200-1791118800@autumnsgate.com
SUMMARY:Horseback Riding 12pm-Ride
DESCRIPTION:Join the Adventure
URL:https://autumnsgate.com/event/horseback-riding-10am-ride-2/2026-10-04/
LOCATION:Autumn’s Gate\, 1956 Balmer Road\, Ransomville\, NY\, 14131\, United States
CATEGORIES:Designed for Age: 16+,Designed for Ages: 12-16,Designed for Ages: 4+,Designed for Ages: 6-12,Horseback Riding
ATTACH;FMTTYPE=image/jpeg:https://autumnsgate.com/wp-content/uploads/2024/01/6-scaled.jpg
ORGANIZER;CN="Autumn's Gate":MAILTO:sales@autumnsgate.com
END:VEVENT
BEGIN:VEVENT
DTSTART;TZID=America/New_York:20261010T120000
DTEND;TZID=America/New_York:20261010T130000
DTSTAMP:20260425T222849
CREATED:20240120T004725Z
LAST-MODIFIED:20240122T002247Z
UID:10022774-1791633600-1791637200@autumnsgate.com
SUMMARY:Horseback Riding 12pm-Ride
DESCRIPTION:Join the Adventure
URL:https://autumnsgate.com/event/horseback-riding-10am-ride-2/2026-10-10/
LOCATION:Autumn’s Gate\, 1956 Balmer Road\, Ransomville\, NY\, 14131\, United States
CATEGORIES:Designed for Age: 16+,Designed for Ages: 12-16,Designed for Ages: 4+,Designed for Ages: 6-12,Horseback Riding
ATTACH;FMTTYPE=image/jpeg:https://autumnsgate.com/wp-content/uploads/2024/01/6-scaled.jpg
ORGANIZER;CN="Autumn's Gate":MAILTO:sales@autumnsgate.com
END:VEVENT
BEGIN:VEVENT
DTSTART;TZID=America/New_York:20261010T130000
DTEND;TZID=America/New_York:20261010T150000
DTSTAMP:20260425T222849
CREATED:20250117T134927Z
LAST-MODIFIED:20250117T134927Z
UID:10023783-1791637200-1791644400@autumnsgate.com
SUMMARY:Farmtastic Birthday Party
DESCRIPTION:
URL:https://autumnsgate.com/event/farmtastic-birthday-party-2/2026-10-10/
LOCATION:Autumn’s Gate\, 1956 Balmer Road\, Ransomville\, NY\, 14131\, United States
ATTACH;FMTTYPE=image/jpeg:https://autumnsgate.com/wp-content/uploads/2024/01/bDay23-Farm-scaled.jpg
ORGANIZER;CN="Autumn's Gate":MAILTO:sales@autumnsgate.com
END:VEVENT
BEGIN:VEVENT
DTSTART;TZID=America/New_York:20261010T160000
DTEND;TZID=America/New_York:20261010T180000
DTSTAMP:20260425T222849
CREATED:20240120T220724Z
LAST-MODIFIED:20240120T220724Z
UID:10021929-1791648000-1791655200@autumnsgate.com
SUMMARY:Date Night Couples Ride
DESCRIPTION:
URL:https://autumnsgate.com/event/date-night-couples-ride/2026-10-10/
LOCATION:Autumn’s Gate\, 1956 Balmer Road\, Ransomville\, NY\, 14131\, United States
CATEGORIES:Horseback Riding
ATTACH;FMTTYPE=image/jpeg:https://autumnsgate.com/wp-content/uploads/2024/01/11-scaled.jpg
ORGANIZER;CN="Autumn's Gate":MAILTO:sales@autumnsgate.com
END:VEVENT
BEGIN:VEVENT
DTSTART;TZID=America/New_York:20261011T100000
DTEND;TZID=America/New_York:20261011T110000
DTSTAMP:20260425T222849
CREATED:20240119T085211Z
LAST-MODIFIED:20240119T215552Z
UID:10002177-1791712800-1791716400@autumnsgate.com
SUMMARY:Toddler & Me Horseback Riding
DESCRIPTION:Horseback Riding & Farm Fun Activities for Toddlers​ and Kids up to age 10
URL:https://autumnsgate.com/event/toddler-me-horseback-riding/2026-10-11/
LOCATION:Autumn’s Gate\, 1956 Balmer Road\, Ransomville\, NY\, 14131\, United States
CATEGORIES:Horseback Riding,Toddler & Me Horseback Riding
ATTACH;FMTTYPE=image/jpeg:https://autumnsgate.com/wp-content/uploads/2024/01/c5d70b43d65edd5b4ba650d56e4d6e15.jpg
ORGANIZER;CN="Autumn's Gate":MAILTO:sales@autumnsgate.com
END:VEVENT
BEGIN:VEVENT
DTSTART;TZID=America/New_York:20261011T120000
DTEND;TZID=America/New_York:20261011T130000
DTSTAMP:20260425T222849
CREATED:20240120T004725Z
LAST-MODIFIED:20240122T002247Z
UID:10019173-1791720000-1791723600@autumnsgate.com
SUMMARY:Horseback Riding 12pm-Ride
DESCRIPTION:Join the Adventure
URL:https://autumnsgate.com/event/horseback-riding-10am-ride-2/2026-10-11/
LOCATION:Autumn’s Gate\, 1956 Balmer Road\, Ransomville\, NY\, 14131\, United States
CATEGORIES:Designed for Age: 16+,Designed for Ages: 12-16,Designed for Ages: 4+,Designed for Ages: 6-12,Horseback Riding
ATTACH;FMTTYPE=image/jpeg:https://autumnsgate.com/wp-content/uploads/2024/01/6-scaled.jpg
ORGANIZER;CN="Autumn's Gate":MAILTO:sales@autumnsgate.com
END:VEVENT
BEGIN:VEVENT
DTSTART;TZID=America/New_York:20261014T080000
DTEND;TZID=America/New_York:20261014T170000
DTSTAMP:20260425T222849
CREATED:20260107T183507Z
LAST-MODIFIED:20260107T183507Z
UID:10024260-1791964800-1791997200@autumnsgate.com
SUMMARY:Columbus Day Camp
DESCRIPTION:More details to follow
URL:https://autumnsgate.com/event/columbus-day-camp-2/
LOCATION:Autumn’s Gate\, 1956 Balmer Road\, Ransomville\, NY\, 14131\, United States
ORGANIZER;CN="Autumn's Gate":MAILTO:sales@autumnsgate.com
END:VEVENT
BEGIN:VEVENT
DTSTART;TZID=America/New_York:20261017T120000
DTEND;TZID=America/New_York:20261017T130000
DTSTAMP:20260425T222849
CREATED:20240120T004725Z
LAST-MODIFIED:20240122T002247Z
UID:10022775-1792238400-1792242000@autumnsgate.com
SUMMARY:Horseback Riding 12pm-Ride
DESCRIPTION:Join the Adventure
URL:https://autumnsgate.com/event/horseback-riding-10am-ride-2/2026-10-17/
LOCATION:Autumn’s Gate\, 1956 Balmer Road\, Ransomville\, NY\, 14131\, United States
CATEGORIES:Designed for Age: 16+,Designed for Ages: 12-16,Designed for Ages: 4+,Designed for Ages: 6-12,Horseback Riding
ATTACH;FMTTYPE=image/jpeg:https://autumnsgate.com/wp-content/uploads/2024/01/6-scaled.jpg
ORGANIZER;CN="Autumn's Gate":MAILTO:sales@autumnsgate.com
END:VEVENT
BEGIN:VEVENT
DTSTART;TZID=America/New_York:20261017T130000
DTEND;TZID=America/New_York:20261017T150000
DTSTAMP:20260425T222849
CREATED:20250117T134927Z
LAST-MODIFIED:20250117T134927Z
UID:10023784-1792242000-1792249200@autumnsgate.com
SUMMARY:Farmtastic Birthday Party
DESCRIPTION:
URL:https://autumnsgate.com/event/farmtastic-birthday-party-2/2026-10-17/
LOCATION:Autumn’s Gate\, 1956 Balmer Road\, Ransomville\, NY\, 14131\, United States
ATTACH;FMTTYPE=image/jpeg:https://autumnsgate.com/wp-content/uploads/2024/01/bDay23-Farm-scaled.jpg
ORGANIZER;CN="Autumn's Gate":MAILTO:sales@autumnsgate.com
END:VEVENT
BEGIN:VEVENT
DTSTART;TZID=America/New_York:20261017T160000
DTEND;TZID=America/New_York:20261017T180000
DTSTAMP:20260425T222849
CREATED:20240120T220724Z
LAST-MODIFIED:20240120T220724Z
UID:10021930-1792252800-1792260000@autumnsgate.com
SUMMARY:Date Night Couples Ride
DESCRIPTION:
URL:https://autumnsgate.com/event/date-night-couples-ride/2026-10-17/
LOCATION:Autumn’s Gate\, 1956 Balmer Road\, Ransomville\, NY\, 14131\, United States
CATEGORIES:Horseback Riding
ATTACH;FMTTYPE=image/jpeg:https://autumnsgate.com/wp-content/uploads/2024/01/11-scaled.jpg
ORGANIZER;CN="Autumn's Gate":MAILTO:sales@autumnsgate.com
END:VEVENT
BEGIN:VEVENT
DTSTART;TZID=America/New_York:20261018T080000
DTEND;TZID=America/New_York:20261018T170000
DTSTAMP:20260425T222849
CREATED:20260107T183833Z
LAST-MODIFIED:20260107T183833Z
UID:10024261-1792310400-1792342800@autumnsgate.com
SUMMARY:Halloween Celebration
DESCRIPTION:More details to follow
URL:https://autumnsgate.com/event/halloween-celebration-3/2026-10-18/
LOCATION:Autumn’s Gate\, 1956 Balmer Road\, Ransomville\, NY\, 14131\, United States
ORGANIZER;CN="Autumn's Gate":MAILTO:sales@autumnsgate.com
END:VEVENT
BEGIN:VEVENT
DTSTART;TZID=America/New_York:20261018T100000
DTEND;TZID=America/New_York:20261018T110000
DTSTAMP:20260425T222849
CREATED:20240119T085211Z
LAST-MODIFIED:20240119T215552Z
UID:10002178-1792317600-1792321200@autumnsgate.com
SUMMARY:Toddler & Me Horseback Riding
DESCRIPTION:Horseback Riding & Farm Fun Activities for Toddlers​ and Kids up to age 10
URL:https://autumnsgate.com/event/toddler-me-horseback-riding/2026-10-18/
LOCATION:Autumn’s Gate\, 1956 Balmer Road\, Ransomville\, NY\, 14131\, United States
CATEGORIES:Horseback Riding,Toddler & Me Horseback Riding
ATTACH;FMTTYPE=image/jpeg:https://autumnsgate.com/wp-content/uploads/2024/01/c5d70b43d65edd5b4ba650d56e4d6e15.jpg
ORGANIZER;CN="Autumn's Gate":MAILTO:sales@autumnsgate.com
END:VEVENT
BEGIN:VEVENT
DTSTART;TZID=America/New_York:20261018T120000
DTEND;TZID=America/New_York:20261018T130000
DTSTAMP:20260425T222849
CREATED:20240120T004725Z
LAST-MODIFIED:20240122T002247Z
UID:10019174-1792324800-1792328400@autumnsgate.com
SUMMARY:Horseback Riding 12pm-Ride
DESCRIPTION:Join the Adventure
URL:https://autumnsgate.com/event/horseback-riding-10am-ride-2/2026-10-18/
LOCATION:Autumn’s Gate\, 1956 Balmer Road\, Ransomville\, NY\, 14131\, United States
CATEGORIES:Designed for Age: 16+,Designed for Ages: 12-16,Designed for Ages: 4+,Designed for Ages: 6-12,Horseback Riding
ATTACH;FMTTYPE=image/jpeg:https://autumnsgate.com/wp-content/uploads/2024/01/6-scaled.jpg
ORGANIZER;CN="Autumn's Gate":MAILTO:sales@autumnsgate.com
END:VEVENT
BEGIN:VEVENT
DTSTART;TZID=America/New_York:20261019T080000
DTEND;TZID=America/New_York:20261019T170000
DTSTAMP:20260425T222849
CREATED:20260107T183833Z
LAST-MODIFIED:20260107T183833Z
UID:10024262-1792396800-1792429200@autumnsgate.com
SUMMARY:Halloween Celebration
DESCRIPTION:More details to follow
URL:https://autumnsgate.com/event/halloween-celebration-3/2026-10-19/
LOCATION:Autumn’s Gate\, 1956 Balmer Road\, Ransomville\, NY\, 14131\, United States
ORGANIZER;CN="Autumn's Gate":MAILTO:sales@autumnsgate.com
END:VEVENT
BEGIN:VEVENT
DTSTART;TZID=America/New_York:20261020T080000
DTEND;TZID=America/New_York:20261020T170000
DTSTAMP:20260425T222849
CREATED:20260107T183833Z
LAST-MODIFIED:20260107T183833Z
UID:10024263-1792483200-1792515600@autumnsgate.com
SUMMARY:Halloween Celebration
DESCRIPTION:More details to follow
URL:https://autumnsgate.com/event/halloween-celebration-3/2026-10-20/
LOCATION:Autumn’s Gate\, 1956 Balmer Road\, Ransomville\, NY\, 14131\, United States
ORGANIZER;CN="Autumn's Gate":MAILTO:sales@autumnsgate.com
END:VEVENT
BEGIN:VEVENT
DTSTART;TZID=America/New_York:20261021T080000
DTEND;TZID=America/New_York:20261021T170000
DTSTAMP:20260425T222849
CREATED:20260107T183833Z
LAST-MODIFIED:20260107T183833Z
UID:10024264-1792569600-1792602000@autumnsgate.com
SUMMARY:Halloween Celebration
DESCRIPTION:More details to follow
URL:https://autumnsgate.com/event/halloween-celebration-3/2026-10-21/
LOCATION:Autumn’s Gate\, 1956 Balmer Road\, Ransomville\, NY\, 14131\, United States
ORGANIZER;CN="Autumn's Gate":MAILTO:sales@autumnsgate.com
END:VEVENT
BEGIN:VEVENT
DTSTART;TZID=America/New_York:20261022T080000
DTEND;TZID=America/New_York:20261022T170000
DTSTAMP:20260425T222849
CREATED:20260107T183833Z
LAST-MODIFIED:20260107T183833Z
UID:10024265-1792656000-1792688400@autumnsgate.com
SUMMARY:Halloween Celebration
DESCRIPTION:More details to follow
URL:https://autumnsgate.com/event/halloween-celebration-3/2026-10-22/
LOCATION:Autumn’s Gate\, 1956 Balmer Road\, Ransomville\, NY\, 14131\, United States
ORGANIZER;CN="Autumn's Gate":MAILTO:sales@autumnsgate.com
END:VEVENT
BEGIN:VEVENT
DTSTART;TZID=America/New_York:20261023T080000
DTEND;TZID=America/New_York:20261023T170000
DTSTAMP:20260425T222849
CREATED:20260107T183833Z
LAST-MODIFIED:20260107T183833Z
UID:10024266-1792742400-1792774800@autumnsgate.com
SUMMARY:Halloween Celebration
DESCRIPTION:More details to follow
URL:https://autumnsgate.com/event/halloween-celebration-3/2026-10-23/
LOCATION:Autumn’s Gate\, 1956 Balmer Road\, Ransomville\, NY\, 14131\, United States
ORGANIZER;CN="Autumn's Gate":MAILTO:sales@autumnsgate.com
END:VEVENT
BEGIN:VEVENT
DTSTART;TZID=America/New_York:20261024T080000
DTEND;TZID=America/New_York:20261024T170000
DTSTAMP:20260425T222849
CREATED:20260107T183833Z
LAST-MODIFIED:20260107T183833Z
UID:10024267-1792828800-1792861200@autumnsgate.com
SUMMARY:Halloween Celebration
DESCRIPTION:More details to follow
URL:https://autumnsgate.com/event/halloween-celebration-3/2026-10-24/
LOCATION:Autumn’s Gate\, 1956 Balmer Road\, Ransomville\, NY\, 14131\, United States
ORGANIZER;CN="Autumn's Gate":MAILTO:sales@autumnsgate.com
END:VEVENT
BEGIN:VEVENT
DTSTART;TZID=America/New_York:20261024T120000
DTEND;TZID=America/New_York:20261024T130000
DTSTAMP:20260425T222849
CREATED:20240120T004725Z
LAST-MODIFIED:20240122T002247Z
UID:10022776-1792843200-1792846800@autumnsgate.com
SUMMARY:Horseback Riding 12pm-Ride
DESCRIPTION:Join the Adventure
URL:https://autumnsgate.com/event/horseback-riding-10am-ride-2/2026-10-24/
LOCATION:Autumn’s Gate\, 1956 Balmer Road\, Ransomville\, NY\, 14131\, United States
CATEGORIES:Designed for Age: 16+,Designed for Ages: 12-16,Designed for Ages: 4+,Designed for Ages: 6-12,Horseback Riding
ATTACH;FMTTYPE=image/jpeg:https://autumnsgate.com/wp-content/uploads/2024/01/6-scaled.jpg
ORGANIZER;CN="Autumn's Gate":MAILTO:sales@autumnsgate.com
END:VEVENT
BEGIN:VEVENT
DTSTART;TZID=America/New_York:20261024T130000
DTEND;TZID=America/New_York:20261024T150000
DTSTAMP:20260425T222849
CREATED:20250117T134927Z
LAST-MODIFIED:20250117T134927Z
UID:10023785-1792846800-1792854000@autumnsgate.com
SUMMARY:Farmtastic Birthday Party
DESCRIPTION:
URL:https://autumnsgate.com/event/farmtastic-birthday-party-2/2026-10-24/
LOCATION:Autumn’s Gate\, 1956 Balmer Road\, Ransomville\, NY\, 14131\, United States
ATTACH;FMTTYPE=image/jpeg:https://autumnsgate.com/wp-content/uploads/2024/01/bDay23-Farm-scaled.jpg
ORGANIZER;CN="Autumn's Gate":MAILTO:sales@autumnsgate.com
END:VEVENT
BEGIN:VEVENT
DTSTART;TZID=America/New_York:20261024T160000
DTEND;TZID=America/New_York:20261024T180000
DTSTAMP:20260425T222849
CREATED:20240120T220724Z
LAST-MODIFIED:20240120T220724Z
UID:10021931-1792857600-1792864800@autumnsgate.com
SUMMARY:Date Night Couples Ride
DESCRIPTION:
URL:https://autumnsgate.com/event/date-night-couples-ride/2026-10-24/
LOCATION:Autumn’s Gate\, 1956 Balmer Road\, Ransomville\, NY\, 14131\, United States
CATEGORIES:Horseback Riding
ATTACH;FMTTYPE=image/jpeg:https://autumnsgate.com/wp-content/uploads/2024/01/11-scaled.jpg
ORGANIZER;CN="Autumn's Gate":MAILTO:sales@autumnsgate.com
END:VEVENT
BEGIN:VEVENT
DTSTART;TZID=America/New_York:20261025T080000
DTEND;TZID=America/New_York:20261025T170000
DTSTAMP:20260425T222849
CREATED:20260107T183833Z
LAST-MODIFIED:20260107T183833Z
UID:10024268-1792915200-1792947600@autumnsgate.com
SUMMARY:Halloween Celebration
DESCRIPTION:More details to follow
URL:https://autumnsgate.com/event/halloween-celebration-3/2026-10-25/
LOCATION:Autumn’s Gate\, 1956 Balmer Road\, Ransomville\, NY\, 14131\, United States
ORGANIZER;CN="Autumn's Gate":MAILTO:sales@autumnsgate.com
END:VEVENT
BEGIN:VEVENT
DTSTART;TZID=America/New_York:20261025T100000
DTEND;TZID=America/New_York:20261025T110000
DTSTAMP:20260425T222849
CREATED:20240119T085211Z
LAST-MODIFIED:20240119T215552Z
UID:10002179-1792922400-1792926000@autumnsgate.com
SUMMARY:Toddler & Me Horseback Riding
DESCRIPTION:Horseback Riding & Farm Fun Activities for Toddlers​ and Kids up to age 10
URL:https://autumnsgate.com/event/toddler-me-horseback-riding/2026-10-25/
LOCATION:Autumn’s Gate\, 1956 Balmer Road\, Ransomville\, NY\, 14131\, United States
CATEGORIES:Horseback Riding,Toddler & Me Horseback Riding
ATTACH;FMTTYPE=image/jpeg:https://autumnsgate.com/wp-content/uploads/2024/01/c5d70b43d65edd5b4ba650d56e4d6e15.jpg
ORGANIZER;CN="Autumn's Gate":MAILTO:sales@autumnsgate.com
END:VEVENT
BEGIN:VEVENT
DTSTART;TZID=America/New_York:20261025T120000
DTEND;TZID=America/New_York:20261025T130000
DTSTAMP:20260425T222849
CREATED:20240120T004725Z
LAST-MODIFIED:20240122T002247Z
UID:10019175-1792929600-1792933200@autumnsgate.com
SUMMARY:Horseback Riding 12pm-Ride
DESCRIPTION:Join the Adventure
URL:https://autumnsgate.com/event/horseback-riding-10am-ride-2/2026-10-25/
LOCATION:Autumn’s Gate\, 1956 Balmer Road\, Ransomville\, NY\, 14131\, United States
CATEGORIES:Designed for Age: 16+,Designed for Ages: 12-16,Designed for Ages: 4+,Designed for Ages: 6-12,Horseback Riding
ATTACH;FMTTYPE=image/jpeg:https://autumnsgate.com/wp-content/uploads/2024/01/6-scaled.jpg
ORGANIZER;CN="Autumn's Gate":MAILTO:sales@autumnsgate.com
END:VEVENT
END:VCALENDAR