BEGIN:VCALENDAR
VERSION:2.0
PRODID:-//Autumn&#039;s Gate - ECPv6.15.20//NONSGML v1.0//EN
CALSCALE:GREGORIAN
METHOD:PUBLISH
X-WR-CALNAME:Autumn&#039;s Gate
X-ORIGINAL-URL:https://autumnsgate.com
X-WR-CALDESC:Events for Autumn&#039;s Gate
REFRESH-INTERVAL;VALUE=DURATION:PT1H
X-Robots-Tag:noindex
X-PUBLISHED-TTL:PT1H
BEGIN:VTIMEZONE
TZID:America/New_York
BEGIN:DAYLIGHT
TZOFFSETFROM:-0500
TZOFFSETTO:-0400
TZNAME:EDT
DTSTART:20250309T070000
END:DAYLIGHT
BEGIN:STANDARD
TZOFFSETFROM:-0400
TZOFFSETTO:-0500
TZNAME:EST
DTSTART:20251102T060000
END:STANDARD
BEGIN:DAYLIGHT
TZOFFSETFROM:-0500
TZOFFSETTO:-0400
TZNAME:EDT
DTSTART:20260308T070000
END:DAYLIGHT
BEGIN:STANDARD
TZOFFSETFROM:-0400
TZOFFSETTO:-0500
TZNAME:EST
DTSTART:20261101T060000
END:STANDARD
BEGIN:DAYLIGHT
TZOFFSETFROM:-0500
TZOFFSETTO:-0400
TZNAME:EDT
DTSTART:20270314T070000
END:DAYLIGHT
BEGIN:STANDARD
TZOFFSETFROM:-0400
TZOFFSETTO:-0500
TZNAME:EST
DTSTART:20271107T060000
END:STANDARD
END:VTIMEZONE
BEGIN:VEVENT
DTSTART;TZID=America/New_York:20260101T150000
DTEND;TZID=America/New_York:20260101T160000
DTSTAMP:20260425T191823
CREATED:20240119T222936Z
LAST-MODIFIED:20240122T002933Z
UID:10023502-1767279600-1767283200@autumnsgate.com
SUMMARY:Horseback Riding 3pm-Ride
DESCRIPTION:Join the Adventure
URL:https://autumnsgate.com/event/horseback-riding/2026-01-01/
LOCATION:Autumn’s Gate\, 1956 Balmer Road\, Ransomville\, NY\, 14131\, United States
CATEGORIES:Designed for Age: 16+,Designed for Ages: 12-16,Designed for Ages: 4+,Designed for Ages: 6-12,Horseback Riding
ATTACH;FMTTYPE=image/jpeg:https://autumnsgate.com/wp-content/uploads/2024/01/ready-to-ride-scaled.jpg
ORGANIZER;CN="Autumn's Gate":MAILTO:sales@autumnsgate.com
END:VEVENT
BEGIN:VEVENT
DTSTART;TZID=America/New_York:20260101T160000
DTEND;TZID=America/New_York:20260101T170000
DTSTAMP:20260425T191823
CREATED:20240119T231144Z
LAST-MODIFIED:20240122T003105Z
UID:10007620-1767283200-1767286800@autumnsgate.com
SUMMARY:Horseback Riding 4pm-Ride
DESCRIPTION:Join the Adventure
URL:https://autumnsgate.com/event/horseback-riding-4pm-ride/2026-01-01/
LOCATION:Autumn’s Gate\, 1956 Balmer Road\, Ransomville\, NY\, 14131\, United States
CATEGORIES:Designed for Age: 16+,Designed for Ages: 12-16,Designed for Ages: 4+,Designed for Ages: 6-12,Horseback Riding
ATTACH;FMTTYPE=image/jpeg:https://autumnsgate.com/wp-content/uploads/2024/01/6-scaled.jpg
ORGANIZER;CN="Autumn's Gate":MAILTO:sales@autumnsgate.com
END:VEVENT
BEGIN:VEVENT
DTSTART;TZID=America/New_York:20260101T170000
DTEND;TZID=America/New_York:20260101T180000
DTSTAMP:20260425T191823
CREATED:20240120T003229Z
LAST-MODIFIED:20240122T003214Z
UID:10010652-1767286800-1767290400@autumnsgate.com
SUMMARY:Horseback Riding 5pm-Ride
DESCRIPTION:Join the Adventure
URL:https://autumnsgate.com/event/horseback-riding-5pm-ride/2026-01-01/
LOCATION:Autumn’s Gate\, 1956 Balmer Road\, Ransomville\, NY\, 14131\, United States
CATEGORIES:Designed for Age: 16+,Designed for Ages: 12-16,Designed for Ages: 4+,Designed for Ages: 6-12,Horseback Riding
ATTACH;FMTTYPE=image/jpeg:https://autumnsgate.com/wp-content/uploads/2024/01/1.jpg--scaled.jpg
ORGANIZER;CN="Autumn's Gate":MAILTO:sales@autumnsgate.com
END:VEVENT
BEGIN:VEVENT
DTSTART;TZID=America/New_York:20260101T180000
DTEND;TZID=America/New_York:20260101T190000
DTSTAMP:20260425T191823
CREATED:20240120T003328Z
LAST-MODIFIED:20240122T003320Z
UID:10013061-1767290400-1767294000@autumnsgate.com
SUMMARY:Horseback Riding 6pm-Ride
DESCRIPTION:Join the Adventure
URL:https://autumnsgate.com/event/horseback-riding-6pm-ride/2026-01-01/
LOCATION:Autumn’s Gate\, 1956 Balmer Road\, Ransomville\, NY\, 14131\, United States
CATEGORIES:Designed for Age: 16+,Designed for Ages: 12-16,Designed for Ages: 4+,Designed for Ages: 6-12,Horseback Riding
ATTACH;FMTTYPE=image/jpeg:https://autumnsgate.com/wp-content/uploads/2024/01/9-scaled.jpg
ORGANIZER;CN="Autumn's Gate":MAILTO:sales@autumnsgate.com
END:VEVENT
BEGIN:VEVENT
DTSTART;TZID=America/New_York:20260101T190000
DTEND;TZID=America/New_York:20260101T200000
DTSTAMP:20260425T191823
CREATED:20240120T003413Z
LAST-MODIFIED:20240122T003422Z
UID:10014629-1767294000-1767297600@autumnsgate.com
SUMMARY:Horseback Riding 7pm-Ride
DESCRIPTION:Join the Adventure
URL:https://autumnsgate.com/event/horseback-riding-6pm-ride-2/2026-01-01/
LOCATION:Autumn’s Gate\, 1956 Balmer Road\, Ransomville\, NY\, 14131\, United States
CATEGORIES:Designed for Age: 16+,Designed for Ages: 12-16,Designed for Ages: 4+,Designed for Ages: 6-12,Horseback Riding
ATTACH;FMTTYPE=image/jpeg:https://autumnsgate.com/wp-content/uploads/2024/01/rider-and-horse-scaled.jpg
ORGANIZER;CN="Autumn's Gate":MAILTO:sales@autumnsgate.com
END:VEVENT
BEGIN:VEVENT
DTSTART;TZID=America/New_York:20260103T120000
DTEND;TZID=America/New_York:20260103T130000
DTSTAMP:20260425T191823
CREATED:20240120T004725Z
LAST-MODIFIED:20240122T002247Z
UID:10022734-1767441600-1767445200@autumnsgate.com
SUMMARY:Horseback Riding 12pm-Ride
DESCRIPTION:Join the Adventure
URL:https://autumnsgate.com/event/horseback-riding-10am-ride-2/2026-01-03/
LOCATION:Autumn’s Gate\, 1956 Balmer Road\, Ransomville\, NY\, 14131\, United States
CATEGORIES:Designed for Age: 16+,Designed for Ages: 12-16,Designed for Ages: 4+,Designed for Ages: 6-12,Horseback Riding
ATTACH;FMTTYPE=image/jpeg:https://autumnsgate.com/wp-content/uploads/2024/01/6-scaled.jpg
ORGANIZER;CN="Autumn's Gate":MAILTO:sales@autumnsgate.com
END:VEVENT
BEGIN:VEVENT
DTSTART;TZID=America/New_York:20260103T130000
DTEND;TZID=America/New_York:20260103T150000
DTSTAMP:20260425T191823
CREATED:20250117T134927Z
LAST-MODIFIED:20250117T134927Z
UID:10023743-1767445200-1767452400@autumnsgate.com
SUMMARY:Farmtastic Birthday Party
DESCRIPTION:
URL:https://autumnsgate.com/event/farmtastic-birthday-party-2/2026-01-03/
LOCATION:Autumn’s Gate\, 1956 Balmer Road\, Ransomville\, NY\, 14131\, United States
ATTACH;FMTTYPE=image/jpeg:https://autumnsgate.com/wp-content/uploads/2024/01/bDay23-Farm-scaled.jpg
ORGANIZER;CN="Autumn's Gate":MAILTO:sales@autumnsgate.com
END:VEVENT
BEGIN:VEVENT
DTSTART;TZID=America/New_York:20260103T140000
DTEND;TZID=America/New_York:20260103T150000
DTSTAMP:20260425T191823
CREATED:20250117T134654Z
LAST-MODIFIED:20250117T134654Z
UID:10023675-1767448800-1767452400@autumnsgate.com
SUMMARY:Autumn's Gate Farm Fun Open House
DESCRIPTION:An hour of awesome farm filled fun!\nMeet all of our animals and tour the facility. Learn about our programs\, meet our instructors\, and camp counselors.\n\nReady to join us? Just click the ‘Join Our Farm Fun Open House’ button below and let the adventure begin. We can’t wait to welcome you to our farm family!\n\nJoin Our Farm Fun Open House
URL:https://autumnsgate.com/event/autumns-gate-farm-fun-open-house-38/2026-01-03/
LOCATION:Autumn’s Gate\, 1956 Balmer Road\, Ransomville\, NY\, 14131\, United States
CATEGORIES:Open House
ATTACH;FMTTYPE=image/jpeg:https://autumnsgate.com/wp-content/uploads/2022/07/be2ac989c4191a74e64493f8eaf54f34.jpg
ORGANIZER;CN="Autumn's Gate":MAILTO:sales@autumnsgate.com
END:VEVENT
BEGIN:VEVENT
DTSTART;TZID=America/New_York:20260103T140000
DTEND;TZID=America/New_York:20260103T150000
DTSTAMP:20260425T191823
CREATED:20250117T134836Z
LAST-MODIFIED:20250117T134837Z
UID:10023690-1767448800-1767452400@autumnsgate.com
SUMMARY:Autumn's Gate Farm Fun Open House
DESCRIPTION:An hour of awesome farm filled fun!\nMeet all of our animals and tour the facility. Learn about our programs\, meet our instructors\, and camp counselors.\n\nReady to join us? Just click the ‘Join Our Farm Fun Open House’ button below and let the adventure begin. We can’t wait to welcome you to our farm family!\n\nJoin Our Farm Fun Open House
URL:https://autumnsgate.com/event/autumns-gate-farm-fun-open-house-36-2/2026-01-03/
LOCATION:Autumn’s Gate\, 1956 Balmer Road\, Ransomville\, NY\, 14131\, United States
CATEGORIES:Open House
ATTACH;FMTTYPE=image/jpeg:https://autumnsgate.com/wp-content/uploads/2022/07/be2ac989c4191a74e64493f8eaf54f34.jpg
ORGANIZER;CN="Autumn's Gate":MAILTO:sales@autumnsgate.com
END:VEVENT
BEGIN:VEVENT
DTSTART;TZID=America/New_York:20260103T160000
DTEND;TZID=America/New_York:20260103T180000
DTSTAMP:20260425T191823
CREATED:20240120T220724Z
LAST-MODIFIED:20240120T220724Z
UID:10021889-1767456000-1767463200@autumnsgate.com
SUMMARY:Date Night Couples Ride
DESCRIPTION:
URL:https://autumnsgate.com/event/date-night-couples-ride/2026-01-03/
LOCATION:Autumn’s Gate\, 1956 Balmer Road\, Ransomville\, NY\, 14131\, United States
CATEGORIES:Horseback Riding
ATTACH;FMTTYPE=image/jpeg:https://autumnsgate.com/wp-content/uploads/2024/01/11-scaled.jpg
ORGANIZER;CN="Autumn's Gate":MAILTO:sales@autumnsgate.com
END:VEVENT
BEGIN:VEVENT
DTSTART;TZID=America/New_York:20260104T100000
DTEND;TZID=America/New_York:20260104T110000
DTSTAMP:20260425T191823
CREATED:20240119T085211Z
LAST-MODIFIED:20240119T215552Z
UID:10002137-1767520800-1767524400@autumnsgate.com
SUMMARY:Toddler & Me Horseback Riding
DESCRIPTION:Horseback Riding & Farm Fun Activities for Toddlers​ and Kids up to age 10
URL:https://autumnsgate.com/event/toddler-me-horseback-riding/2026-01-04/
LOCATION:Autumn’s Gate\, 1956 Balmer Road\, Ransomville\, NY\, 14131\, United States
CATEGORIES:Horseback Riding,Toddler & Me Horseback Riding
ATTACH;FMTTYPE=image/jpeg:https://autumnsgate.com/wp-content/uploads/2024/01/c5d70b43d65edd5b4ba650d56e4d6e15.jpg
ORGANIZER;CN="Autumn's Gate":MAILTO:sales@autumnsgate.com
END:VEVENT
BEGIN:VEVENT
DTSTART;TZID=America/New_York:20260104T120000
DTEND;TZID=America/New_York:20260104T130000
DTSTAMP:20260425T191823
CREATED:20240120T004725Z
LAST-MODIFIED:20240122T002247Z
UID:10019133-1767528000-1767531600@autumnsgate.com
SUMMARY:Horseback Riding 12pm-Ride
DESCRIPTION:Join the Adventure
URL:https://autumnsgate.com/event/horseback-riding-10am-ride-2/2026-01-04/
LOCATION:Autumn’s Gate\, 1956 Balmer Road\, Ransomville\, NY\, 14131\, United States
CATEGORIES:Designed for Age: 16+,Designed for Ages: 12-16,Designed for Ages: 4+,Designed for Ages: 6-12,Horseback Riding
ATTACH;FMTTYPE=image/jpeg:https://autumnsgate.com/wp-content/uploads/2024/01/6-scaled.jpg
ORGANIZER;CN="Autumn's Gate":MAILTO:sales@autumnsgate.com
END:VEVENT
BEGIN:VEVENT
DTSTART;TZID=America/New_York:20260107T080000
DTEND;TZID=America/New_York:20260107T170000
DTSTAMP:20260425T191823
CREATED:20260107T165831Z
LAST-MODIFIED:20260107T165831Z
UID:10024241-1767772800-1767805200@autumnsgate.com
SUMMARY:Niagara County 4-H Open Horse Show
DESCRIPTION:More details to follow
URL:https://autumnsgate.com/event/niagara-county-4-h-open-horse-show-2/
LOCATION:Autumn’s Gate\, 1956 Balmer Road\, Ransomville\, NY\, 14131\, United States
ORGANIZER;CN="Autumn's Gate":MAILTO:sales@autumnsgate.com
END:VEVENT
BEGIN:VEVENT
DTSTART;TZID=America/New_York:20260109T180000
DTEND;TZID=America/New_York:20260109T193000
DTSTAMP:20260425T191823
CREATED:20260103T163951Z
LAST-MODIFIED:20260103T164032Z
UID:10024233-1767981600-1767987000@autumnsgate.com
SUMMARY:Law Enforcement Appreciation Open House
DESCRIPTION:🚨💙 CALLING ALL OFFICERS 💙🚨 \nThis Friday 1/9 at 6PM\, Autumn’s Gate is opening our gates for a special Open House in honor of the men and women in blue. \n🐎 All officers in attendance receive a FREE horseback ride on their account\n👉 Must show badge \nThis is our small way of saying thank you for your service\, your sacrifice\, and everything you do for our community. 💙 \n📍 Come meet the horses\, tour the farm\, and enjoy a peaceful evening at Autumn’s Gate.\n🔗 More details &amp; sign-ups: AutumnsGate.com/openhouse \nPlease share with any officers you know 🖤💙
URL:https://autumnsgate.com/event/law-enforcement-appreciation-open-house/
LOCATION:Autumn’s Gate\, 1956 Balmer Road\, Ransomville\, NY\, 14131\, United States
ORGANIZER;CN="Autumn's Gate":MAILTO:sales@autumnsgate.com
END:VEVENT
BEGIN:VEVENT
DTSTART;TZID=America/New_York:20260110T120000
DTEND;TZID=America/New_York:20260110T130000
DTSTAMP:20260425T191823
CREATED:20240120T004725Z
LAST-MODIFIED:20240122T002247Z
UID:10022735-1768046400-1768050000@autumnsgate.com
SUMMARY:Horseback Riding 12pm-Ride
DESCRIPTION:Join the Adventure
URL:https://autumnsgate.com/event/horseback-riding-10am-ride-2/2026-01-10/
LOCATION:Autumn’s Gate\, 1956 Balmer Road\, Ransomville\, NY\, 14131\, United States
CATEGORIES:Designed for Age: 16+,Designed for Ages: 12-16,Designed for Ages: 4+,Designed for Ages: 6-12,Horseback Riding
ATTACH;FMTTYPE=image/jpeg:https://autumnsgate.com/wp-content/uploads/2024/01/6-scaled.jpg
ORGANIZER;CN="Autumn's Gate":MAILTO:sales@autumnsgate.com
END:VEVENT
BEGIN:VEVENT
DTSTART;TZID=America/New_York:20260110T130000
DTEND;TZID=America/New_York:20260110T150000
DTSTAMP:20260425T191823
CREATED:20250117T134927Z
LAST-MODIFIED:20250117T134927Z
UID:10023744-1768050000-1768057200@autumnsgate.com
SUMMARY:Farmtastic Birthday Party
DESCRIPTION:
URL:https://autumnsgate.com/event/farmtastic-birthday-party-2/2026-01-10/
LOCATION:Autumn’s Gate\, 1956 Balmer Road\, Ransomville\, NY\, 14131\, United States
ATTACH;FMTTYPE=image/jpeg:https://autumnsgate.com/wp-content/uploads/2024/01/bDay23-Farm-scaled.jpg
ORGANIZER;CN="Autumn's Gate":MAILTO:sales@autumnsgate.com
END:VEVENT
BEGIN:VEVENT
DTSTART;TZID=America/New_York:20260110T160000
DTEND;TZID=America/New_York:20260110T180000
DTSTAMP:20260425T191823
CREATED:20240120T220724Z
LAST-MODIFIED:20240120T220724Z
UID:10021890-1768060800-1768068000@autumnsgate.com
SUMMARY:Date Night Couples Ride
DESCRIPTION:
URL:https://autumnsgate.com/event/date-night-couples-ride/2026-01-10/
LOCATION:Autumn’s Gate\, 1956 Balmer Road\, Ransomville\, NY\, 14131\, United States
CATEGORIES:Horseback Riding
ATTACH;FMTTYPE=image/jpeg:https://autumnsgate.com/wp-content/uploads/2024/01/11-scaled.jpg
ORGANIZER;CN="Autumn's Gate":MAILTO:sales@autumnsgate.com
END:VEVENT
BEGIN:VEVENT
DTSTART;TZID=America/New_York:20260111T100000
DTEND;TZID=America/New_York:20260111T110000
DTSTAMP:20260425T191823
CREATED:20240119T085211Z
LAST-MODIFIED:20240119T215552Z
UID:10002138-1768125600-1768129200@autumnsgate.com
SUMMARY:Toddler & Me Horseback Riding
DESCRIPTION:Horseback Riding & Farm Fun Activities for Toddlers​ and Kids up to age 10
URL:https://autumnsgate.com/event/toddler-me-horseback-riding/2026-01-11/
LOCATION:Autumn’s Gate\, 1956 Balmer Road\, Ransomville\, NY\, 14131\, United States
CATEGORIES:Horseback Riding,Toddler & Me Horseback Riding
ATTACH;FMTTYPE=image/jpeg:https://autumnsgate.com/wp-content/uploads/2024/01/c5d70b43d65edd5b4ba650d56e4d6e15.jpg
ORGANIZER;CN="Autumn's Gate":MAILTO:sales@autumnsgate.com
END:VEVENT
BEGIN:VEVENT
DTSTART;TZID=America/New_York:20260111T120000
DTEND;TZID=America/New_York:20260111T130000
DTSTAMP:20260425T191823
CREATED:20240120T004725Z
LAST-MODIFIED:20240122T002247Z
UID:10019134-1768132800-1768136400@autumnsgate.com
SUMMARY:Horseback Riding 12pm-Ride
DESCRIPTION:Join the Adventure
URL:https://autumnsgate.com/event/horseback-riding-10am-ride-2/2026-01-11/
LOCATION:Autumn’s Gate\, 1956 Balmer Road\, Ransomville\, NY\, 14131\, United States
CATEGORIES:Designed for Age: 16+,Designed for Ages: 12-16,Designed for Ages: 4+,Designed for Ages: 6-12,Horseback Riding
ATTACH;FMTTYPE=image/jpeg:https://autumnsgate.com/wp-content/uploads/2024/01/6-scaled.jpg
ORGANIZER;CN="Autumn's Gate":MAILTO:sales@autumnsgate.com
END:VEVENT
BEGIN:VEVENT
DTSTART;TZID=America/New_York:20260116T180000
DTEND;TZID=America/New_York:20260116T193000
DTSTAMP:20260425T191823
CREATED:20240122T005229Z
LAST-MODIFIED:20240122T034257Z
UID:10023584-1768586400-1768591800@autumnsgate.com
SUMMARY:Autumn's Gate Farm Fun Open House
DESCRIPTION:An hour of awesome farm filled fun!\nMeet all of our animals and tour the facility. Learn about our programs\, meet our instructors\, and camp counselors.\n  \n\nReady to join us? Just click the ‘Join Our Farm Fun Open House’ button below and let the adventure begin. We can’t wait to welcome you to our farm family! \n\nJoin Our Farm Fun Open House
URL:https://autumnsgate.com/event/autumns-gate-farm-fun-open-house-37/2026-01-16/
LOCATION:Autumn’s Gate\, 1956 Balmer Road\, Ransomville\, NY\, 14131\, United States
CATEGORIES:Open House
ATTACH;FMTTYPE=image/jpeg:https://autumnsgate.com/wp-content/uploads/2022/07/be2ac989c4191a74e64493f8eaf54f34.jpg
ORGANIZER;CN="Autumn's Gate":MAILTO:sales@autumnsgate.com
END:VEVENT
BEGIN:VEVENT
DTSTART;TZID=America/New_York:20260117T120000
DTEND;TZID=America/New_York:20260117T130000
DTSTAMP:20260425T191823
CREATED:20240120T004725Z
LAST-MODIFIED:20240122T002247Z
UID:10022736-1768651200-1768654800@autumnsgate.com
SUMMARY:Horseback Riding 12pm-Ride
DESCRIPTION:Join the Adventure
URL:https://autumnsgate.com/event/horseback-riding-10am-ride-2/2026-01-17/
LOCATION:Autumn’s Gate\, 1956 Balmer Road\, Ransomville\, NY\, 14131\, United States
CATEGORIES:Designed for Age: 16+,Designed for Ages: 12-16,Designed for Ages: 4+,Designed for Ages: 6-12,Horseback Riding
ATTACH;FMTTYPE=image/jpeg:https://autumnsgate.com/wp-content/uploads/2024/01/6-scaled.jpg
ORGANIZER;CN="Autumn's Gate":MAILTO:sales@autumnsgate.com
END:VEVENT
BEGIN:VEVENT
DTSTART;TZID=America/New_York:20260117T130000
DTEND;TZID=America/New_York:20260117T150000
DTSTAMP:20260425T191823
CREATED:20250117T134927Z
LAST-MODIFIED:20250117T134927Z
UID:10023745-1768654800-1768662000@autumnsgate.com
SUMMARY:Farmtastic Birthday Party
DESCRIPTION:
URL:https://autumnsgate.com/event/farmtastic-birthday-party-2/2026-01-17/
LOCATION:Autumn’s Gate\, 1956 Balmer Road\, Ransomville\, NY\, 14131\, United States
ATTACH;FMTTYPE=image/jpeg:https://autumnsgate.com/wp-content/uploads/2024/01/bDay23-Farm-scaled.jpg
ORGANIZER;CN="Autumn's Gate":MAILTO:sales@autumnsgate.com
END:VEVENT
BEGIN:VEVENT
DTSTART;TZID=America/New_York:20260117T160000
DTEND;TZID=America/New_York:20260117T180000
DTSTAMP:20260425T191823
CREATED:20240120T220724Z
LAST-MODIFIED:20240120T220724Z
UID:10021891-1768665600-1768672800@autumnsgate.com
SUMMARY:Date Night Couples Ride
DESCRIPTION:
URL:https://autumnsgate.com/event/date-night-couples-ride/2026-01-17/
LOCATION:Autumn’s Gate\, 1956 Balmer Road\, Ransomville\, NY\, 14131\, United States
CATEGORIES:Horseback Riding
ATTACH;FMTTYPE=image/jpeg:https://autumnsgate.com/wp-content/uploads/2024/01/11-scaled.jpg
ORGANIZER;CN="Autumn's Gate":MAILTO:sales@autumnsgate.com
END:VEVENT
BEGIN:VEVENT
DTSTART;TZID=America/New_York:20260118T100000
DTEND;TZID=America/New_York:20260118T110000
DTSTAMP:20260425T191823
CREATED:20240119T085211Z
LAST-MODIFIED:20240119T215552Z
UID:10002139-1768730400-1768734000@autumnsgate.com
SUMMARY:Toddler & Me Horseback Riding
DESCRIPTION:Horseback Riding & Farm Fun Activities for Toddlers​ and Kids up to age 10
URL:https://autumnsgate.com/event/toddler-me-horseback-riding/2026-01-18/
LOCATION:Autumn’s Gate\, 1956 Balmer Road\, Ransomville\, NY\, 14131\, United States
CATEGORIES:Horseback Riding,Toddler & Me Horseback Riding
ATTACH;FMTTYPE=image/jpeg:https://autumnsgate.com/wp-content/uploads/2024/01/c5d70b43d65edd5b4ba650d56e4d6e15.jpg
ORGANIZER;CN="Autumn's Gate":MAILTO:sales@autumnsgate.com
END:VEVENT
BEGIN:VEVENT
DTSTART;TZID=America/New_York:20260118T120000
DTEND;TZID=America/New_York:20260118T130000
DTSTAMP:20260425T191823
CREATED:20240120T004725Z
LAST-MODIFIED:20240122T002247Z
UID:10019135-1768737600-1768741200@autumnsgate.com
SUMMARY:Horseback Riding 12pm-Ride
DESCRIPTION:Join the Adventure
URL:https://autumnsgate.com/event/horseback-riding-10am-ride-2/2026-01-18/
LOCATION:Autumn’s Gate\, 1956 Balmer Road\, Ransomville\, NY\, 14131\, United States
CATEGORIES:Designed for Age: 16+,Designed for Ages: 12-16,Designed for Ages: 4+,Designed for Ages: 6-12,Horseback Riding
ATTACH;FMTTYPE=image/jpeg:https://autumnsgate.com/wp-content/uploads/2024/01/6-scaled.jpg
ORGANIZER;CN="Autumn's Gate":MAILTO:sales@autumnsgate.com
END:VEVENT
BEGIN:VEVENT
DTSTART;TZID=America/New_York:20260124T120000
DTEND;TZID=America/New_York:20260124T130000
DTSTAMP:20260425T191823
CREATED:20240120T004725Z
LAST-MODIFIED:20240122T002247Z
UID:10022737-1769256000-1769259600@autumnsgate.com
SUMMARY:Horseback Riding 12pm-Ride
DESCRIPTION:Join the Adventure
URL:https://autumnsgate.com/event/horseback-riding-10am-ride-2/2026-01-24/
LOCATION:Autumn’s Gate\, 1956 Balmer Road\, Ransomville\, NY\, 14131\, United States
CATEGORIES:Designed for Age: 16+,Designed for Ages: 12-16,Designed for Ages: 4+,Designed for Ages: 6-12,Horseback Riding
ATTACH;FMTTYPE=image/jpeg:https://autumnsgate.com/wp-content/uploads/2024/01/6-scaled.jpg
ORGANIZER;CN="Autumn's Gate":MAILTO:sales@autumnsgate.com
END:VEVENT
BEGIN:VEVENT
DTSTART;TZID=America/New_York:20260124T130000
DTEND;TZID=America/New_York:20260124T150000
DTSTAMP:20260425T191823
CREATED:20250117T134927Z
LAST-MODIFIED:20250117T134927Z
UID:10023746-1769259600-1769266800@autumnsgate.com
SUMMARY:Farmtastic Birthday Party
DESCRIPTION:
URL:https://autumnsgate.com/event/farmtastic-birthday-party-2/2026-01-24/
LOCATION:Autumn’s Gate\, 1956 Balmer Road\, Ransomville\, NY\, 14131\, United States
ATTACH;FMTTYPE=image/jpeg:https://autumnsgate.com/wp-content/uploads/2024/01/bDay23-Farm-scaled.jpg
ORGANIZER;CN="Autumn's Gate":MAILTO:sales@autumnsgate.com
END:VEVENT
BEGIN:VEVENT
DTSTART;TZID=America/New_York:20260124T160000
DTEND;TZID=America/New_York:20260124T180000
DTSTAMP:20260425T191823
CREATED:20240120T220724Z
LAST-MODIFIED:20240120T220724Z
UID:10021892-1769270400-1769277600@autumnsgate.com
SUMMARY:Date Night Couples Ride
DESCRIPTION:
URL:https://autumnsgate.com/event/date-night-couples-ride/2026-01-24/
LOCATION:Autumn’s Gate\, 1956 Balmer Road\, Ransomville\, NY\, 14131\, United States
CATEGORIES:Horseback Riding
ATTACH;FMTTYPE=image/jpeg:https://autumnsgate.com/wp-content/uploads/2024/01/11-scaled.jpg
ORGANIZER;CN="Autumn's Gate":MAILTO:sales@autumnsgate.com
END:VEVENT
BEGIN:VEVENT
DTSTART;TZID=America/New_York:20260125T100000
DTEND;TZID=America/New_York:20260125T110000
DTSTAMP:20260425T191823
CREATED:20240119T085211Z
LAST-MODIFIED:20240119T215552Z
UID:10002140-1769335200-1769338800@autumnsgate.com
SUMMARY:Toddler & Me Horseback Riding
DESCRIPTION:Horseback Riding & Farm Fun Activities for Toddlers​ and Kids up to age 10
URL:https://autumnsgate.com/event/toddler-me-horseback-riding/2026-01-25/
LOCATION:Autumn’s Gate\, 1956 Balmer Road\, Ransomville\, NY\, 14131\, United States
CATEGORIES:Horseback Riding,Toddler & Me Horseback Riding
ATTACH;FMTTYPE=image/jpeg:https://autumnsgate.com/wp-content/uploads/2024/01/c5d70b43d65edd5b4ba650d56e4d6e15.jpg
ORGANIZER;CN="Autumn's Gate":MAILTO:sales@autumnsgate.com
END:VEVENT
BEGIN:VEVENT
DTSTART;TZID=America/New_York:20260125T120000
DTEND;TZID=America/New_York:20260125T130000
DTSTAMP:20260425T191823
CREATED:20240120T004725Z
LAST-MODIFIED:20240122T002247Z
UID:10019136-1769342400-1769346000@autumnsgate.com
SUMMARY:Horseback Riding 12pm-Ride
DESCRIPTION:Join the Adventure
URL:https://autumnsgate.com/event/horseback-riding-10am-ride-2/2026-01-25/
LOCATION:Autumn’s Gate\, 1956 Balmer Road\, Ransomville\, NY\, 14131\, United States
CATEGORIES:Designed for Age: 16+,Designed for Ages: 12-16,Designed for Ages: 4+,Designed for Ages: 6-12,Horseback Riding
ATTACH;FMTTYPE=image/jpeg:https://autumnsgate.com/wp-content/uploads/2024/01/6-scaled.jpg
ORGANIZER;CN="Autumn's Gate":MAILTO:sales@autumnsgate.com
END:VEVENT
END:VCALENDAR