BEGIN:VCALENDAR
VERSION:2.0
PRODID:-//Autumn&#039;s Gate - ECPv6.15.20//NONSGML v1.0//EN
CALSCALE:GREGORIAN
METHOD:PUBLISH
X-WR-CALNAME:Autumn&#039;s Gate
X-ORIGINAL-URL:https://autumnsgate.com
X-WR-CALDESC:Events for Autumn&#039;s Gate
REFRESH-INTERVAL;VALUE=DURATION:PT1H
X-Robots-Tag:noindex
X-PUBLISHED-TTL:PT1H
BEGIN:VTIMEZONE
TZID:America/New_York
BEGIN:DAYLIGHT
TZOFFSETFROM:-0500
TZOFFSETTO:-0400
TZNAME:EDT
DTSTART:20250309T070000
END:DAYLIGHT
BEGIN:STANDARD
TZOFFSETFROM:-0400
TZOFFSETTO:-0500
TZNAME:EST
DTSTART:20251102T060000
END:STANDARD
BEGIN:DAYLIGHT
TZOFFSETFROM:-0500
TZOFFSETTO:-0400
TZNAME:EDT
DTSTART:20260308T070000
END:DAYLIGHT
BEGIN:STANDARD
TZOFFSETFROM:-0400
TZOFFSETTO:-0500
TZNAME:EST
DTSTART:20261101T060000
END:STANDARD
BEGIN:DAYLIGHT
TZOFFSETFROM:-0500
TZOFFSETTO:-0400
TZNAME:EDT
DTSTART:20270314T070000
END:DAYLIGHT
BEGIN:STANDARD
TZOFFSETFROM:-0400
TZOFFSETTO:-0500
TZNAME:EST
DTSTART:20271107T060000
END:STANDARD
END:VTIMEZONE
BEGIN:VEVENT
DTSTART;TZID=America/New_York:20261004T080000
DTEND;TZID=America/New_York:20261004T170000
DTSTAMP:20260425T223211
CREATED:20260107T183238Z
LAST-MODIFIED:20260107T183238Z
UID:10024259-1791100800-1791133200@autumnsgate.com
SUMMARY:Autumn's Gate Horse Show
DESCRIPTION:More details to follow
URL:https://autumnsgate.com/event/autumns-gate-horse-show-7/
LOCATION:Autumn’s Gate\, 1956 Balmer Road\, Ransomville\, NY\, 14131\, United States
ORGANIZER;CN="Autumn's Gate":MAILTO:sales@autumnsgate.com
END:VEVENT
BEGIN:VEVENT
DTSTART;TZID=America/New_York:20261014T080000
DTEND;TZID=America/New_York:20261014T170000
DTSTAMP:20260425T223211
CREATED:20260107T183507Z
LAST-MODIFIED:20260107T183507Z
UID:10024260-1791964800-1791997200@autumnsgate.com
SUMMARY:Columbus Day Camp
DESCRIPTION:More details to follow
URL:https://autumnsgate.com/event/columbus-day-camp-2/
LOCATION:Autumn’s Gate\, 1956 Balmer Road\, Ransomville\, NY\, 14131\, United States
ORGANIZER;CN="Autumn's Gate":MAILTO:sales@autumnsgate.com
END:VEVENT
BEGIN:VEVENT
DTSTART;TZID=America/New_York:20261018T080000
DTEND;TZID=America/New_York:20261018T170000
DTSTAMP:20260425T223211
CREATED:20260107T183833Z
LAST-MODIFIED:20260107T183833Z
UID:10024261-1792310400-1792342800@autumnsgate.com
SUMMARY:Halloween Celebration
DESCRIPTION:More details to follow
URL:https://autumnsgate.com/event/halloween-celebration-3/2026-10-18/
LOCATION:Autumn’s Gate\, 1956 Balmer Road\, Ransomville\, NY\, 14131\, United States
ORGANIZER;CN="Autumn's Gate":MAILTO:sales@autumnsgate.com
END:VEVENT
BEGIN:VEVENT
DTSTART;TZID=America/New_York:20261115T080000
DTEND;TZID=America/New_York:20261115T170000
DTSTAMP:20260425T223211
CREATED:20260107T184217Z
LAST-MODIFIED:20260107T184217Z
UID:10024269-1794729600-1794762000@autumnsgate.com
SUMMARY:Autumn's Gate Horse Show Awards Dinner
DESCRIPTION:More details to follow
URL:https://autumnsgate.com/event/autumns-gate-horse-show-awards-dinner/
LOCATION:Autumn’s Gate\, 1956 Balmer Road\, Ransomville\, NY\, 14131\, United States
ORGANIZER;CN="Autumn's Gate":MAILTO:sales@autumnsgate.com
END:VEVENT
BEGIN:VEVENT
DTSTART;TZID=America/New_York:20261211T080000
DTEND;TZID=America/New_York:20261211T170000
DTSTAMP:20260425T223211
CREATED:20260107T184503Z
LAST-MODIFIED:20260107T184503Z
UID:10024270-1796976000-1797008400@autumnsgate.com
SUMMARY:Christmas at Autumn's Gate
DESCRIPTION:More details to follow
URL:https://autumnsgate.com/event/christmas-at-autumns-gate/2026-12-11/
LOCATION:Autumn’s Gate\, 1956 Balmer Road\, Ransomville\, NY\, 14131\, United States
ORGANIZER;CN="Autumn's Gate":MAILTO:sales@autumnsgate.com
END:VEVENT
END:VCALENDAR