BEGIN:VCALENDAR
VERSION:2.0
PRODID:-//Autumn&#039;s Gate - ECPv6.15.20//NONSGML v1.0//EN
CALSCALE:GREGORIAN
METHOD:PUBLISH
X-ORIGINAL-URL:https://autumnsgate.com
X-WR-CALDESC:Events for Autumn&#039;s Gate
REFRESH-INTERVAL;VALUE=DURATION:PT1H
X-Robots-Tag:noindex
X-PUBLISHED-TTL:PT1H
BEGIN:VTIMEZONE
TZID:America/New_York
BEGIN:DAYLIGHT
TZOFFSETFROM:-0500
TZOFFSETTO:-0400
TZNAME:EDT
DTSTART:20280312T070000
END:DAYLIGHT
BEGIN:STANDARD
TZOFFSETFROM:-0400
TZOFFSETTO:-0500
TZNAME:EST
DTSTART:20281105T060000
END:STANDARD
BEGIN:DAYLIGHT
TZOFFSETFROM:-0500
TZOFFSETTO:-0400
TZNAME:EDT
DTSTART:20290311T070000
END:DAYLIGHT
BEGIN:STANDARD
TZOFFSETFROM:-0400
TZOFFSETTO:-0500
TZNAME:EST
DTSTART:20291104T060000
END:STANDARD
BEGIN:DAYLIGHT
TZOFFSETFROM:-0500
TZOFFSETTO:-0400
TZNAME:EDT
DTSTART:20300310T070000
END:DAYLIGHT
BEGIN:STANDARD
TZOFFSETFROM:-0400
TZOFFSETTO:-0500
TZNAME:EST
DTSTART:20301103T060000
END:STANDARD
END:VTIMEZONE
BEGIN:VEVENT
DTSTART;TZID=America/New_York:20290106T120000
DTEND;TZID=America/New_York:20290106T130000
DTSTAMP:20260424T041851
CREATED:20240120T004725Z
LAST-MODIFIED:20240122T002247Z
UID:10022891-1862395200-1862398800@autumnsgate.com
SUMMARY:Horseback Riding 12pm-Ride
DESCRIPTION:Join the Adventure
URL:https://autumnsgate.com/event/horseback-riding-10am-ride-2/2029-01-06/
LOCATION:Autumn’s Gate\, 1956 Balmer Road\, Ransomville\, NY\, 14131\, United States
CATEGORIES:Designed for Age: 16+,Designed for Ages: 12-16,Designed for Ages: 4+,Designed for Ages: 6-12,Horseback Riding
ATTACH;FMTTYPE=image/jpeg:https://autumnsgate.com/wp-content/uploads/2024/01/6-scaled.jpg
ORGANIZER;CN="Autumn's Gate":MAILTO:sales@autumnsgate.com
END:VEVENT
BEGIN:VEVENT
DTSTART;TZID=America/New_York:20290107T120000
DTEND;TZID=America/New_York:20290107T130000
DTSTAMP:20260424T041851
CREATED:20240120T004725Z
LAST-MODIFIED:20240122T002247Z
UID:10019290-1862481600-1862485200@autumnsgate.com
SUMMARY:Horseback Riding 12pm-Ride
DESCRIPTION:Join the Adventure
URL:https://autumnsgate.com/event/horseback-riding-10am-ride-2/2029-01-07/
LOCATION:Autumn’s Gate\, 1956 Balmer Road\, Ransomville\, NY\, 14131\, United States
CATEGORIES:Designed for Age: 16+,Designed for Ages: 12-16,Designed for Ages: 4+,Designed for Ages: 6-12,Horseback Riding
ATTACH;FMTTYPE=image/jpeg:https://autumnsgate.com/wp-content/uploads/2024/01/6-scaled.jpg
ORGANIZER;CN="Autumn's Gate":MAILTO:sales@autumnsgate.com
END:VEVENT
BEGIN:VEVENT
DTSTART;TZID=America/New_York:20290113T120000
DTEND;TZID=America/New_York:20290113T130000
DTSTAMP:20260424T041851
CREATED:20240120T004725Z
LAST-MODIFIED:20240122T002247Z
UID:10022892-1863000000-1863003600@autumnsgate.com
SUMMARY:Horseback Riding 12pm-Ride
DESCRIPTION:Join the Adventure
URL:https://autumnsgate.com/event/horseback-riding-10am-ride-2/2029-01-13/
LOCATION:Autumn’s Gate\, 1956 Balmer Road\, Ransomville\, NY\, 14131\, United States
CATEGORIES:Designed for Age: 16+,Designed for Ages: 12-16,Designed for Ages: 4+,Designed for Ages: 6-12,Horseback Riding
ATTACH;FMTTYPE=image/jpeg:https://autumnsgate.com/wp-content/uploads/2024/01/6-scaled.jpg
ORGANIZER;CN="Autumn's Gate":MAILTO:sales@autumnsgate.com
END:VEVENT
BEGIN:VEVENT
DTSTART;TZID=America/New_York:20290114T120000
DTEND;TZID=America/New_York:20290114T130000
DTSTAMP:20260424T041851
CREATED:20240120T004725Z
LAST-MODIFIED:20240122T002247Z
UID:10019291-1863086400-1863090000@autumnsgate.com
SUMMARY:Horseback Riding 12pm-Ride
DESCRIPTION:Join the Adventure
URL:https://autumnsgate.com/event/horseback-riding-10am-ride-2/2029-01-14/
LOCATION:Autumn’s Gate\, 1956 Balmer Road\, Ransomville\, NY\, 14131\, United States
CATEGORIES:Designed for Age: 16+,Designed for Ages: 12-16,Designed for Ages: 4+,Designed for Ages: 6-12,Horseback Riding
ATTACH;FMTTYPE=image/jpeg:https://autumnsgate.com/wp-content/uploads/2024/01/6-scaled.jpg
ORGANIZER;CN="Autumn's Gate":MAILTO:sales@autumnsgate.com
END:VEVENT
BEGIN:VEVENT
DTSTART;TZID=America/New_York:20290120T120000
DTEND;TZID=America/New_York:20290120T130000
DTSTAMP:20260424T041851
CREATED:20240120T004725Z
LAST-MODIFIED:20240122T002247Z
UID:10022893-1863604800-1863608400@autumnsgate.com
SUMMARY:Horseback Riding 12pm-Ride
DESCRIPTION:Join the Adventure
URL:https://autumnsgate.com/event/horseback-riding-10am-ride-2/2029-01-20/
LOCATION:Autumn’s Gate\, 1956 Balmer Road\, Ransomville\, NY\, 14131\, United States
CATEGORIES:Designed for Age: 16+,Designed for Ages: 12-16,Designed for Ages: 4+,Designed for Ages: 6-12,Horseback Riding
ATTACH;FMTTYPE=image/jpeg:https://autumnsgate.com/wp-content/uploads/2024/01/6-scaled.jpg
ORGANIZER;CN="Autumn's Gate":MAILTO:sales@autumnsgate.com
END:VEVENT
BEGIN:VEVENT
DTSTART;TZID=America/New_York:20290121T120000
DTEND;TZID=America/New_York:20290121T130000
DTSTAMP:20260424T041851
CREATED:20240120T004725Z
LAST-MODIFIED:20240122T002247Z
UID:10022119-1863691200-1863694800@autumnsgate.com
SUMMARY:Horseback Riding 12pm-Ride
DESCRIPTION:Join the Adventure
URL:https://autumnsgate.com/event/horseback-riding-10am-ride-2/2029-01-21/
LOCATION:Autumn’s Gate\, 1956 Balmer Road\, Ransomville\, NY\, 14131\, United States
CATEGORIES:Designed for Age: 16+,Designed for Ages: 12-16,Designed for Ages: 4+,Designed for Ages: 6-12,Horseback Riding
ATTACH;FMTTYPE=image/jpeg:https://autumnsgate.com/wp-content/uploads/2024/01/6-scaled.jpg
ORGANIZER;CN="Autumn's Gate":MAILTO:sales@autumnsgate.com
END:VEVENT
END:VCALENDAR