BEGIN:VCALENDAR
VERSION:2.0
PRODID:-//Autumn&#039;s Gate - ECPv6.15.20//NONSGML v1.0//EN
CALSCALE:GREGORIAN
METHOD:PUBLISH
X-WR-CALNAME:Autumn&#039;s Gate
X-ORIGINAL-URL:https://autumnsgate.com
X-WR-CALDESC:Events for Autumn&#039;s Gate
REFRESH-INTERVAL;VALUE=DURATION:PT1H
X-Robots-Tag:noindex
X-PUBLISHED-TTL:PT1H
BEGIN:VTIMEZONE
TZID:America/New_York
BEGIN:DAYLIGHT
TZOFFSETFROM:-0500
TZOFFSETTO:-0400
TZNAME:EDT
DTSTART:20270314T070000
END:DAYLIGHT
BEGIN:STANDARD
TZOFFSETFROM:-0400
TZOFFSETTO:-0500
TZNAME:EST
DTSTART:20271107T060000
END:STANDARD
BEGIN:DAYLIGHT
TZOFFSETFROM:-0500
TZOFFSETTO:-0400
TZNAME:EDT
DTSTART:20280312T070000
END:DAYLIGHT
BEGIN:STANDARD
TZOFFSETFROM:-0400
TZOFFSETTO:-0500
TZNAME:EST
DTSTART:20281105T060000
END:STANDARD
BEGIN:DAYLIGHT
TZOFFSETFROM:-0500
TZOFFSETTO:-0400
TZNAME:EDT
DTSTART:20290311T070000
END:DAYLIGHT
BEGIN:STANDARD
TZOFFSETFROM:-0400
TZOFFSETTO:-0500
TZNAME:EST
DTSTART:20291104T060000
END:STANDARD
END:VTIMEZONE
BEGIN:VEVENT
DTSTART;TZID=America/New_York:20280701T120000
DTEND;TZID=America/New_York:20280701T130000
DTSTAMP:20260425T125125
CREATED:20240120T004725Z
LAST-MODIFIED:20240122T002247Z
UID:10022864-1846065600-1846069200@autumnsgate.com
SUMMARY:Horseback Riding 12pm-Ride
DESCRIPTION:Join the Adventure
URL:https://autumnsgate.com/event/horseback-riding-10am-ride-2/2028-07-01/
LOCATION:Autumn’s Gate\, 1956 Balmer Road\, Ransomville\, NY\, 14131\, United States
CATEGORIES:Designed for Age: 16+,Designed for Ages: 12-16,Designed for Ages: 4+,Designed for Ages: 6-12,Horseback Riding
ATTACH;FMTTYPE=image/jpeg:https://autumnsgate.com/wp-content/uploads/2024/01/6-scaled.jpg
ORGANIZER;CN="Autumn's Gate":MAILTO:sales@autumnsgate.com
END:VEVENT
BEGIN:VEVENT
DTSTART;TZID=America/New_York:20280702T120000
DTEND;TZID=America/New_York:20280702T130000
DTSTAMP:20260425T125125
CREATED:20240120T004725Z
LAST-MODIFIED:20240122T002247Z
UID:10019263-1846152000-1846155600@autumnsgate.com
SUMMARY:Horseback Riding 12pm-Ride
DESCRIPTION:Join the Adventure
URL:https://autumnsgate.com/event/horseback-riding-10am-ride-2/2028-07-02/
LOCATION:Autumn’s Gate\, 1956 Balmer Road\, Ransomville\, NY\, 14131\, United States
CATEGORIES:Designed for Age: 16+,Designed for Ages: 12-16,Designed for Ages: 4+,Designed for Ages: 6-12,Horseback Riding
ATTACH;FMTTYPE=image/jpeg:https://autumnsgate.com/wp-content/uploads/2024/01/6-scaled.jpg
ORGANIZER;CN="Autumn's Gate":MAILTO:sales@autumnsgate.com
END:VEVENT
BEGIN:VEVENT
DTSTART;TZID=America/New_York:20280708T120000
DTEND;TZID=America/New_York:20280708T130000
DTSTAMP:20260425T125125
CREATED:20240120T004725Z
LAST-MODIFIED:20240122T002247Z
UID:10022865-1846670400-1846674000@autumnsgate.com
SUMMARY:Horseback Riding 12pm-Ride
DESCRIPTION:Join the Adventure
URL:https://autumnsgate.com/event/horseback-riding-10am-ride-2/2028-07-08/
LOCATION:Autumn’s Gate\, 1956 Balmer Road\, Ransomville\, NY\, 14131\, United States
CATEGORIES:Designed for Age: 16+,Designed for Ages: 12-16,Designed for Ages: 4+,Designed for Ages: 6-12,Horseback Riding
ATTACH;FMTTYPE=image/jpeg:https://autumnsgate.com/wp-content/uploads/2024/01/6-scaled.jpg
ORGANIZER;CN="Autumn's Gate":MAILTO:sales@autumnsgate.com
END:VEVENT
BEGIN:VEVENT
DTSTART;TZID=America/New_York:20280709T120000
DTEND;TZID=America/New_York:20280709T130000
DTSTAMP:20260425T125125
CREATED:20240120T004725Z
LAST-MODIFIED:20240122T002247Z
UID:10019264-1846756800-1846760400@autumnsgate.com
SUMMARY:Horseback Riding 12pm-Ride
DESCRIPTION:Join the Adventure
URL:https://autumnsgate.com/event/horseback-riding-10am-ride-2/2028-07-09/
LOCATION:Autumn’s Gate\, 1956 Balmer Road\, Ransomville\, NY\, 14131\, United States
CATEGORIES:Designed for Age: 16+,Designed for Ages: 12-16,Designed for Ages: 4+,Designed for Ages: 6-12,Horseback Riding
ATTACH;FMTTYPE=image/jpeg:https://autumnsgate.com/wp-content/uploads/2024/01/6-scaled.jpg
ORGANIZER;CN="Autumn's Gate":MAILTO:sales@autumnsgate.com
END:VEVENT
BEGIN:VEVENT
DTSTART;TZID=America/New_York:20280715T120000
DTEND;TZID=America/New_York:20280715T130000
DTSTAMP:20260425T125125
CREATED:20240120T004725Z
LAST-MODIFIED:20240122T002247Z
UID:10022866-1847275200-1847278800@autumnsgate.com
SUMMARY:Horseback Riding 12pm-Ride
DESCRIPTION:Join the Adventure
URL:https://autumnsgate.com/event/horseback-riding-10am-ride-2/2028-07-15/
LOCATION:Autumn’s Gate\, 1956 Balmer Road\, Ransomville\, NY\, 14131\, United States
CATEGORIES:Designed for Age: 16+,Designed for Ages: 12-16,Designed for Ages: 4+,Designed for Ages: 6-12,Horseback Riding
ATTACH;FMTTYPE=image/jpeg:https://autumnsgate.com/wp-content/uploads/2024/01/6-scaled.jpg
ORGANIZER;CN="Autumn's Gate":MAILTO:sales@autumnsgate.com
END:VEVENT
BEGIN:VEVENT
DTSTART;TZID=America/New_York:20280716T120000
DTEND;TZID=America/New_York:20280716T130000
DTSTAMP:20260425T125125
CREATED:20240120T004725Z
LAST-MODIFIED:20240122T002247Z
UID:10019265-1847361600-1847365200@autumnsgate.com
SUMMARY:Horseback Riding 12pm-Ride
DESCRIPTION:Join the Adventure
URL:https://autumnsgate.com/event/horseback-riding-10am-ride-2/2028-07-16/
LOCATION:Autumn’s Gate\, 1956 Balmer Road\, Ransomville\, NY\, 14131\, United States
CATEGORIES:Designed for Age: 16+,Designed for Ages: 12-16,Designed for Ages: 4+,Designed for Ages: 6-12,Horseback Riding
ATTACH;FMTTYPE=image/jpeg:https://autumnsgate.com/wp-content/uploads/2024/01/6-scaled.jpg
ORGANIZER;CN="Autumn's Gate":MAILTO:sales@autumnsgate.com
END:VEVENT
BEGIN:VEVENT
DTSTART;TZID=America/New_York:20280722T120000
DTEND;TZID=America/New_York:20280722T130000
DTSTAMP:20260425T125125
CREATED:20240120T004725Z
LAST-MODIFIED:20240122T002247Z
UID:10022867-1847880000-1847883600@autumnsgate.com
SUMMARY:Horseback Riding 12pm-Ride
DESCRIPTION:Join the Adventure
URL:https://autumnsgate.com/event/horseback-riding-10am-ride-2/2028-07-22/
LOCATION:Autumn’s Gate\, 1956 Balmer Road\, Ransomville\, NY\, 14131\, United States
CATEGORIES:Designed for Age: 16+,Designed for Ages: 12-16,Designed for Ages: 4+,Designed for Ages: 6-12,Horseback Riding
ATTACH;FMTTYPE=image/jpeg:https://autumnsgate.com/wp-content/uploads/2024/01/6-scaled.jpg
ORGANIZER;CN="Autumn's Gate":MAILTO:sales@autumnsgate.com
END:VEVENT
BEGIN:VEVENT
DTSTART;TZID=America/New_York:20280723T120000
DTEND;TZID=America/New_York:20280723T130000
DTSTAMP:20260425T125125
CREATED:20240120T004725Z
LAST-MODIFIED:20240122T002247Z
UID:10019266-1847966400-1847970000@autumnsgate.com
SUMMARY:Horseback Riding 12pm-Ride
DESCRIPTION:Join the Adventure
URL:https://autumnsgate.com/event/horseback-riding-10am-ride-2/2028-07-23/
LOCATION:Autumn’s Gate\, 1956 Balmer Road\, Ransomville\, NY\, 14131\, United States
CATEGORIES:Designed for Age: 16+,Designed for Ages: 12-16,Designed for Ages: 4+,Designed for Ages: 6-12,Horseback Riding
ATTACH;FMTTYPE=image/jpeg:https://autumnsgate.com/wp-content/uploads/2024/01/6-scaled.jpg
ORGANIZER;CN="Autumn's Gate":MAILTO:sales@autumnsgate.com
END:VEVENT
BEGIN:VEVENT
DTSTART;TZID=America/New_York:20280729T120000
DTEND;TZID=America/New_York:20280729T130000
DTSTAMP:20260425T125125
CREATED:20240120T004725Z
LAST-MODIFIED:20240122T002247Z
UID:10022868-1848484800-1848488400@autumnsgate.com
SUMMARY:Horseback Riding 12pm-Ride
DESCRIPTION:Join the Adventure
URL:https://autumnsgate.com/event/horseback-riding-10am-ride-2/2028-07-29/
LOCATION:Autumn’s Gate\, 1956 Balmer Road\, Ransomville\, NY\, 14131\, United States
CATEGORIES:Designed for Age: 16+,Designed for Ages: 12-16,Designed for Ages: 4+,Designed for Ages: 6-12,Horseback Riding
ATTACH;FMTTYPE=image/jpeg:https://autumnsgate.com/wp-content/uploads/2024/01/6-scaled.jpg
ORGANIZER;CN="Autumn's Gate":MAILTO:sales@autumnsgate.com
END:VEVENT
BEGIN:VEVENT
DTSTART;TZID=America/New_York:20280730T120000
DTEND;TZID=America/New_York:20280730T130000
DTSTAMP:20260425T125125
CREATED:20240120T004725Z
LAST-MODIFIED:20240122T002247Z
UID:10019267-1848571200-1848574800@autumnsgate.com
SUMMARY:Horseback Riding 12pm-Ride
DESCRIPTION:Join the Adventure
URL:https://autumnsgate.com/event/horseback-riding-10am-ride-2/2028-07-30/
LOCATION:Autumn’s Gate\, 1956 Balmer Road\, Ransomville\, NY\, 14131\, United States
CATEGORIES:Designed for Age: 16+,Designed for Ages: 12-16,Designed for Ages: 4+,Designed for Ages: 6-12,Horseback Riding
ATTACH;FMTTYPE=image/jpeg:https://autumnsgate.com/wp-content/uploads/2024/01/6-scaled.jpg
ORGANIZER;CN="Autumn's Gate":MAILTO:sales@autumnsgate.com
END:VEVENT
END:VCALENDAR