BEGIN:VCALENDAR
VERSION:2.0
PRODID:-//Autumn&#039;s Gate - ECPv6.15.20//NONSGML v1.0//EN
CALSCALE:GREGORIAN
METHOD:PUBLISH
X-ORIGINAL-URL:https://autumnsgate.com
X-WR-CALDESC:Events for Autumn&#039;s Gate
REFRESH-INTERVAL;VALUE=DURATION:PT1H
X-Robots-Tag:noindex
X-PUBLISHED-TTL:PT1H
BEGIN:VTIMEZONE
TZID:America/New_York
BEGIN:DAYLIGHT
TZOFFSETFROM:-0500
TZOFFSETTO:-0400
TZNAME:EDT
DTSTART:20260308T070000
END:DAYLIGHT
BEGIN:STANDARD
TZOFFSETFROM:-0400
TZOFFSETTO:-0500
TZNAME:EST
DTSTART:20261101T060000
END:STANDARD
BEGIN:DAYLIGHT
TZOFFSETFROM:-0500
TZOFFSETTO:-0400
TZNAME:EDT
DTSTART:20270314T070000
END:DAYLIGHT
BEGIN:STANDARD
TZOFFSETFROM:-0400
TZOFFSETTO:-0500
TZNAME:EST
DTSTART:20271107T060000
END:STANDARD
BEGIN:DAYLIGHT
TZOFFSETFROM:-0500
TZOFFSETTO:-0400
TZNAME:EDT
DTSTART:20280312T070000
END:DAYLIGHT
BEGIN:STANDARD
TZOFFSETFROM:-0400
TZOFFSETTO:-0500
TZNAME:EST
DTSTART:20281105T060000
END:STANDARD
END:VTIMEZONE
BEGIN:VEVENT
DTSTART;TZID=America/New_York:20271204T120000
DTEND;TZID=America/New_York:20271204T130000
DTSTAMP:20260419T205107
CREATED:20240120T004725Z
LAST-MODIFIED:20240122T002247Z
UID:10022834-1827921600-1827925200@autumnsgate.com
SUMMARY:Horseback Riding 12pm-Ride
DESCRIPTION:Join the Adventure
URL:https://autumnsgate.com/event/horseback-riding-10am-ride-2/2027-12-04/
LOCATION:Autumn’s Gate\, 1956 Balmer Road\, Ransomville\, NY\, 14131\, United States
CATEGORIES:Designed for Age: 16+,Designed for Ages: 12-16,Designed for Ages: 4+,Designed for Ages: 6-12,Horseback Riding
ATTACH;FMTTYPE=image/jpeg:https://autumnsgate.com/wp-content/uploads/2024/01/6-scaled.jpg
ORGANIZER;CN="Autumn's Gate":MAILTO:sales@autumnsgate.com
END:VEVENT
BEGIN:VEVENT
DTSTART;TZID=America/New_York:20271205T120000
DTEND;TZID=America/New_York:20271205T130000
DTSTAMP:20260419T205107
CREATED:20240120T004725Z
LAST-MODIFIED:20240122T002247Z
UID:10019233-1828008000-1828011600@autumnsgate.com
SUMMARY:Horseback Riding 12pm-Ride
DESCRIPTION:Join the Adventure
URL:https://autumnsgate.com/event/horseback-riding-10am-ride-2/2027-12-05/
LOCATION:Autumn’s Gate\, 1956 Balmer Road\, Ransomville\, NY\, 14131\, United States
CATEGORIES:Designed for Age: 16+,Designed for Ages: 12-16,Designed for Ages: 4+,Designed for Ages: 6-12,Horseback Riding
ATTACH;FMTTYPE=image/jpeg:https://autumnsgate.com/wp-content/uploads/2024/01/6-scaled.jpg
ORGANIZER;CN="Autumn's Gate":MAILTO:sales@autumnsgate.com
END:VEVENT
BEGIN:VEVENT
DTSTART;TZID=America/New_York:20271211T120000
DTEND;TZID=America/New_York:20271211T130000
DTSTAMP:20260419T205107
CREATED:20240120T004725Z
LAST-MODIFIED:20240122T002247Z
UID:10022835-1828526400-1828530000@autumnsgate.com
SUMMARY:Horseback Riding 12pm-Ride
DESCRIPTION:Join the Adventure
URL:https://autumnsgate.com/event/horseback-riding-10am-ride-2/2027-12-11/
LOCATION:Autumn’s Gate\, 1956 Balmer Road\, Ransomville\, NY\, 14131\, United States
CATEGORIES:Designed for Age: 16+,Designed for Ages: 12-16,Designed for Ages: 4+,Designed for Ages: 6-12,Horseback Riding
ATTACH;FMTTYPE=image/jpeg:https://autumnsgate.com/wp-content/uploads/2024/01/6-scaled.jpg
ORGANIZER;CN="Autumn's Gate":MAILTO:sales@autumnsgate.com
END:VEVENT
BEGIN:VEVENT
DTSTART;TZID=America/New_York:20271212T120000
DTEND;TZID=America/New_York:20271212T130000
DTSTAMP:20260419T205107
CREATED:20240120T004725Z
LAST-MODIFIED:20240122T002247Z
UID:10019234-1828612800-1828616400@autumnsgate.com
SUMMARY:Horseback Riding 12pm-Ride
DESCRIPTION:Join the Adventure
URL:https://autumnsgate.com/event/horseback-riding-10am-ride-2/2027-12-12/
LOCATION:Autumn’s Gate\, 1956 Balmer Road\, Ransomville\, NY\, 14131\, United States
CATEGORIES:Designed for Age: 16+,Designed for Ages: 12-16,Designed for Ages: 4+,Designed for Ages: 6-12,Horseback Riding
ATTACH;FMTTYPE=image/jpeg:https://autumnsgate.com/wp-content/uploads/2024/01/6-scaled.jpg
ORGANIZER;CN="Autumn's Gate":MAILTO:sales@autumnsgate.com
END:VEVENT
BEGIN:VEVENT
DTSTART;TZID=America/New_York:20271218T120000
DTEND;TZID=America/New_York:20271218T130000
DTSTAMP:20260419T205107
CREATED:20240120T004725Z
LAST-MODIFIED:20240122T002247Z
UID:10022836-1829131200-1829134800@autumnsgate.com
SUMMARY:Horseback Riding 12pm-Ride
DESCRIPTION:Join the Adventure
URL:https://autumnsgate.com/event/horseback-riding-10am-ride-2/2027-12-18/
LOCATION:Autumn’s Gate\, 1956 Balmer Road\, Ransomville\, NY\, 14131\, United States
CATEGORIES:Designed for Age: 16+,Designed for Ages: 12-16,Designed for Ages: 4+,Designed for Ages: 6-12,Horseback Riding
ATTACH;FMTTYPE=image/jpeg:https://autumnsgate.com/wp-content/uploads/2024/01/6-scaled.jpg
ORGANIZER;CN="Autumn's Gate":MAILTO:sales@autumnsgate.com
END:VEVENT
BEGIN:VEVENT
DTSTART;TZID=America/New_York:20271219T120000
DTEND;TZID=America/New_York:20271219T130000
DTSTAMP:20260419T205107
CREATED:20240120T004725Z
LAST-MODIFIED:20240122T002247Z
UID:10019235-1829217600-1829221200@autumnsgate.com
SUMMARY:Horseback Riding 12pm-Ride
DESCRIPTION:Join the Adventure
URL:https://autumnsgate.com/event/horseback-riding-10am-ride-2/2027-12-19/
LOCATION:Autumn’s Gate\, 1956 Balmer Road\, Ransomville\, NY\, 14131\, United States
CATEGORIES:Designed for Age: 16+,Designed for Ages: 12-16,Designed for Ages: 4+,Designed for Ages: 6-12,Horseback Riding
ATTACH;FMTTYPE=image/jpeg:https://autumnsgate.com/wp-content/uploads/2024/01/6-scaled.jpg
ORGANIZER;CN="Autumn's Gate":MAILTO:sales@autumnsgate.com
END:VEVENT
BEGIN:VEVENT
DTSTART;TZID=America/New_York:20271225T120000
DTEND;TZID=America/New_York:20271225T130000
DTSTAMP:20260419T205107
CREATED:20240120T004725Z
LAST-MODIFIED:20240122T002247Z
UID:10022837-1829736000-1829739600@autumnsgate.com
SUMMARY:Horseback Riding 12pm-Ride
DESCRIPTION:Join the Adventure
URL:https://autumnsgate.com/event/horseback-riding-10am-ride-2/2027-12-25/
LOCATION:Autumn’s Gate\, 1956 Balmer Road\, Ransomville\, NY\, 14131\, United States
CATEGORIES:Designed for Age: 16+,Designed for Ages: 12-16,Designed for Ages: 4+,Designed for Ages: 6-12,Horseback Riding
ATTACH;FMTTYPE=image/jpeg:https://autumnsgate.com/wp-content/uploads/2024/01/6-scaled.jpg
ORGANIZER;CN="Autumn's Gate":MAILTO:sales@autumnsgate.com
END:VEVENT
BEGIN:VEVENT
DTSTART;TZID=America/New_York:20271226T120000
DTEND;TZID=America/New_York:20271226T130000
DTSTAMP:20260419T205107
CREATED:20240120T004725Z
LAST-MODIFIED:20240122T002247Z
UID:10019236-1829822400-1829826000@autumnsgate.com
SUMMARY:Horseback Riding 12pm-Ride
DESCRIPTION:Join the Adventure
URL:https://autumnsgate.com/event/horseback-riding-10am-ride-2/2027-12-26/
LOCATION:Autumn’s Gate\, 1956 Balmer Road\, Ransomville\, NY\, 14131\, United States
CATEGORIES:Designed for Age: 16+,Designed for Ages: 12-16,Designed for Ages: 4+,Designed for Ages: 6-12,Horseback Riding
ATTACH;FMTTYPE=image/jpeg:https://autumnsgate.com/wp-content/uploads/2024/01/6-scaled.jpg
ORGANIZER;CN="Autumn's Gate":MAILTO:sales@autumnsgate.com
END:VEVENT
END:VCALENDAR