BEGIN:VCALENDAR
VERSION:2.0
PRODID:-//Autumn&#039;s Gate - ECPv6.15.20//NONSGML v1.0//EN
CALSCALE:GREGORIAN
METHOD:PUBLISH
X-ORIGINAL-URL:https://autumnsgate.com
X-WR-CALDESC:Events for Autumn&#039;s Gate
REFRESH-INTERVAL;VALUE=DURATION:PT1H
X-Robots-Tag:noindex
X-PUBLISHED-TTL:PT1H
BEGIN:VTIMEZONE
TZID:America/New_York
BEGIN:DAYLIGHT
TZOFFSETFROM:-0500
TZOFFSETTO:-0400
TZNAME:EDT
DTSTART:20230312T070000
END:DAYLIGHT
BEGIN:STANDARD
TZOFFSETFROM:-0400
TZOFFSETTO:-0500
TZNAME:EST
DTSTART:20231105T060000
END:STANDARD
BEGIN:DAYLIGHT
TZOFFSETFROM:-0500
TZOFFSETTO:-0400
TZNAME:EDT
DTSTART:20240310T070000
END:DAYLIGHT
BEGIN:STANDARD
TZOFFSETFROM:-0400
TZOFFSETTO:-0500
TZNAME:EST
DTSTART:20241103T060000
END:STANDARD
BEGIN:DAYLIGHT
TZOFFSETFROM:-0500
TZOFFSETTO:-0400
TZNAME:EDT
DTSTART:20250309T070000
END:DAYLIGHT
BEGIN:STANDARD
TZOFFSETFROM:-0400
TZOFFSETTO:-0500
TZNAME:EST
DTSTART:20251102T060000
END:STANDARD
END:VTIMEZONE
BEGIN:VEVENT
DTSTART;TZID=America/New_York:20240501T150000
DTEND;TZID=America/New_York:20240501T160000
DTSTAMP:20260425T075200
CREATED:20240119T222936Z
LAST-MODIFIED:20240122T002933Z
UID:10023153-1714575600-1714579200@autumnsgate.com
SUMMARY:Horseback Riding 3pm-Ride
DESCRIPTION:Join the Adventure
URL:https://autumnsgate.com/event/horseback-riding/2024-05-01/
LOCATION:Autumn’s Gate\, 1956 Balmer Road\, Ransomville\, NY\, 14131\, United States
CATEGORIES:Designed for Age: 16+,Designed for Ages: 12-16,Designed for Ages: 4+,Designed for Ages: 6-12,Horseback Riding
ATTACH;FMTTYPE=image/jpeg:https://autumnsgate.com/wp-content/uploads/2024/01/ready-to-ride-scaled.jpg
ORGANIZER;CN="Autumn's Gate":MAILTO:sales@autumnsgate.com
END:VEVENT
BEGIN:VEVENT
DTSTART;TZID=America/New_York:20240501T160000
DTEND;TZID=America/New_York:20240501T170000
DTSTAMP:20260425T075200
CREATED:20240119T231144Z
LAST-MODIFIED:20240122T003105Z
UID:10007097-1714579200-1714582800@autumnsgate.com
SUMMARY:Horseback Riding 4pm-Ride
DESCRIPTION:Join the Adventure
URL:https://autumnsgate.com/event/horseback-riding-4pm-ride/2024-05-01/
LOCATION:Autumn’s Gate\, 1956 Balmer Road\, Ransomville\, NY\, 14131\, United States
CATEGORIES:Designed for Age: 16+,Designed for Ages: 12-16,Designed for Ages: 4+,Designed for Ages: 6-12,Horseback Riding
ATTACH;FMTTYPE=image/jpeg:https://autumnsgate.com/wp-content/uploads/2024/01/6-scaled.jpg
ORGANIZER;CN="Autumn's Gate":MAILTO:sales@autumnsgate.com
END:VEVENT
BEGIN:VEVENT
DTSTART;TZID=America/New_York:20240501T170000
DTEND;TZID=America/New_York:20240501T180000
DTSTAMP:20260425T075200
CREATED:20240120T003229Z
LAST-MODIFIED:20240122T003214Z
UID:10010216-1714582800-1714586400@autumnsgate.com
SUMMARY:Horseback Riding 5pm-Ride
DESCRIPTION:Join the Adventure
URL:https://autumnsgate.com/event/horseback-riding-5pm-ride/2024-05-01/
LOCATION:Autumn’s Gate\, 1956 Balmer Road\, Ransomville\, NY\, 14131\, United States
CATEGORIES:Designed for Age: 16+,Designed for Ages: 12-16,Designed for Ages: 4+,Designed for Ages: 6-12,Horseback Riding
ATTACH;FMTTYPE=image/jpeg:https://autumnsgate.com/wp-content/uploads/2024/01/1.jpg--scaled.jpg
ORGANIZER;CN="Autumn's Gate":MAILTO:sales@autumnsgate.com
END:VEVENT
BEGIN:VEVENT
DTSTART;TZID=America/New_York:20240501T180000
DTEND;TZID=America/New_York:20240501T190000
DTSTAMP:20260425T075200
CREATED:20240120T003328Z
LAST-MODIFIED:20240122T003320Z
UID:10012799-1714586400-1714590000@autumnsgate.com
SUMMARY:Horseback Riding 6pm-Ride
DESCRIPTION:Join the Adventure
URL:https://autumnsgate.com/event/horseback-riding-6pm-ride/2024-05-01/
LOCATION:Autumn’s Gate\, 1956 Balmer Road\, Ransomville\, NY\, 14131\, United States
CATEGORIES:Designed for Age: 16+,Designed for Ages: 12-16,Designed for Ages: 4+,Designed for Ages: 6-12,Horseback Riding
ATTACH;FMTTYPE=image/jpeg:https://autumnsgate.com/wp-content/uploads/2024/01/9-scaled.jpg
ORGANIZER;CN="Autumn's Gate":MAILTO:sales@autumnsgate.com
END:VEVENT
BEGIN:VEVENT
DTSTART;TZID=America/New_York:20240501T190000
DTEND;TZID=America/New_York:20240501T200000
DTSTAMP:20260425T075200
CREATED:20240120T003413Z
LAST-MODIFIED:20240122T003422Z
UID:10014367-1714590000-1714593600@autumnsgate.com
SUMMARY:Horseback Riding 7pm-Ride
DESCRIPTION:Join the Adventure
URL:https://autumnsgate.com/event/horseback-riding-6pm-ride-2/2024-05-01/
LOCATION:Autumn’s Gate\, 1956 Balmer Road\, Ransomville\, NY\, 14131\, United States
CATEGORIES:Designed for Age: 16+,Designed for Ages: 12-16,Designed for Ages: 4+,Designed for Ages: 6-12,Horseback Riding
ATTACH;FMTTYPE=image/jpeg:https://autumnsgate.com/wp-content/uploads/2024/01/rider-and-horse-scaled.jpg
ORGANIZER;CN="Autumn's Gate":MAILTO:sales@autumnsgate.com
END:VEVENT
BEGIN:VEVENT
DTSTART;TZID=America/New_York:20240502T150000
DTEND;TZID=America/New_York:20240502T160000
DTSTAMP:20260425T075200
CREATED:20240119T222936Z
LAST-MODIFIED:20240122T002933Z
UID:10023154-1714662000-1714665600@autumnsgate.com
SUMMARY:Horseback Riding 3pm-Ride
DESCRIPTION:Join the Adventure
URL:https://autumnsgate.com/event/horseback-riding/2024-05-02/
LOCATION:Autumn’s Gate\, 1956 Balmer Road\, Ransomville\, NY\, 14131\, United States
CATEGORIES:Designed for Age: 16+,Designed for Ages: 12-16,Designed for Ages: 4+,Designed for Ages: 6-12,Horseback Riding
ATTACH;FMTTYPE=image/jpeg:https://autumnsgate.com/wp-content/uploads/2024/01/ready-to-ride-scaled.jpg
ORGANIZER;CN="Autumn's Gate":MAILTO:sales@autumnsgate.com
END:VEVENT
BEGIN:VEVENT
DTSTART;TZID=America/New_York:20240502T160000
DTEND;TZID=America/New_York:20240502T170000
DTSTAMP:20260425T075200
CREATED:20240119T231144Z
LAST-MODIFIED:20240122T003105Z
UID:10007098-1714665600-1714669200@autumnsgate.com
SUMMARY:Horseback Riding 4pm-Ride
DESCRIPTION:Join the Adventure
URL:https://autumnsgate.com/event/horseback-riding-4pm-ride/2024-05-02/
LOCATION:Autumn’s Gate\, 1956 Balmer Road\, Ransomville\, NY\, 14131\, United States
CATEGORIES:Designed for Age: 16+,Designed for Ages: 12-16,Designed for Ages: 4+,Designed for Ages: 6-12,Horseback Riding
ATTACH;FMTTYPE=image/jpeg:https://autumnsgate.com/wp-content/uploads/2024/01/6-scaled.jpg
ORGANIZER;CN="Autumn's Gate":MAILTO:sales@autumnsgate.com
END:VEVENT
BEGIN:VEVENT
DTSTART;TZID=America/New_York:20240502T170000
DTEND;TZID=America/New_York:20240502T180000
DTSTAMP:20260425T075200
CREATED:20240120T003229Z
LAST-MODIFIED:20240122T003214Z
UID:10010217-1714669200-1714672800@autumnsgate.com
SUMMARY:Horseback Riding 5pm-Ride
DESCRIPTION:Join the Adventure
URL:https://autumnsgate.com/event/horseback-riding-5pm-ride/2024-05-02/
LOCATION:Autumn’s Gate\, 1956 Balmer Road\, Ransomville\, NY\, 14131\, United States
CATEGORIES:Designed for Age: 16+,Designed for Ages: 12-16,Designed for Ages: 4+,Designed for Ages: 6-12,Horseback Riding
ATTACH;FMTTYPE=image/jpeg:https://autumnsgate.com/wp-content/uploads/2024/01/1.jpg--scaled.jpg
ORGANIZER;CN="Autumn's Gate":MAILTO:sales@autumnsgate.com
END:VEVENT
BEGIN:VEVENT
DTSTART;TZID=America/New_York:20240502T180000
DTEND;TZID=America/New_York:20240502T190000
DTSTAMP:20260425T075200
CREATED:20240120T003328Z
LAST-MODIFIED:20240122T003320Z
UID:10012800-1714672800-1714676400@autumnsgate.com
SUMMARY:Horseback Riding 6pm-Ride
DESCRIPTION:Join the Adventure
URL:https://autumnsgate.com/event/horseback-riding-6pm-ride/2024-05-02/
LOCATION:Autumn’s Gate\, 1956 Balmer Road\, Ransomville\, NY\, 14131\, United States
CATEGORIES:Designed for Age: 16+,Designed for Ages: 12-16,Designed for Ages: 4+,Designed for Ages: 6-12,Horseback Riding
ATTACH;FMTTYPE=image/jpeg:https://autumnsgate.com/wp-content/uploads/2024/01/9-scaled.jpg
ORGANIZER;CN="Autumn's Gate":MAILTO:sales@autumnsgate.com
END:VEVENT
BEGIN:VEVENT
DTSTART;TZID=America/New_York:20240502T190000
DTEND;TZID=America/New_York:20240502T200000
DTSTAMP:20260425T075200
CREATED:20240120T003413Z
LAST-MODIFIED:20240122T003422Z
UID:10014368-1714676400-1714680000@autumnsgate.com
SUMMARY:Horseback Riding 7pm-Ride
DESCRIPTION:Join the Adventure
URL:https://autumnsgate.com/event/horseback-riding-6pm-ride-2/2024-05-02/
LOCATION:Autumn’s Gate\, 1956 Balmer Road\, Ransomville\, NY\, 14131\, United States
CATEGORIES:Designed for Age: 16+,Designed for Ages: 12-16,Designed for Ages: 4+,Designed for Ages: 6-12,Horseback Riding
ATTACH;FMTTYPE=image/jpeg:https://autumnsgate.com/wp-content/uploads/2024/01/rider-and-horse-scaled.jpg
ORGANIZER;CN="Autumn's Gate":MAILTO:sales@autumnsgate.com
END:VEVENT
BEGIN:VEVENT
DTSTART;TZID=America/New_York:20240503T150000
DTEND;TZID=America/New_York:20240503T160000
DTSTAMP:20260425T075200
CREATED:20240119T222936Z
LAST-MODIFIED:20240122T002933Z
UID:10023155-1714748400-1714752000@autumnsgate.com
SUMMARY:Horseback Riding 3pm-Ride
DESCRIPTION:Join the Adventure
URL:https://autumnsgate.com/event/horseback-riding/2024-05-03/
LOCATION:Autumn’s Gate\, 1956 Balmer Road\, Ransomville\, NY\, 14131\, United States
CATEGORIES:Designed for Age: 16+,Designed for Ages: 12-16,Designed for Ages: 4+,Designed for Ages: 6-12,Horseback Riding
ATTACH;FMTTYPE=image/jpeg:https://autumnsgate.com/wp-content/uploads/2024/01/ready-to-ride-scaled.jpg
ORGANIZER;CN="Autumn's Gate":MAILTO:sales@autumnsgate.com
END:VEVENT
BEGIN:VEVENT
DTSTART;TZID=America/New_York:20240503T160000
DTEND;TZID=America/New_York:20240503T170000
DTSTAMP:20260425T075200
CREATED:20240119T231144Z
LAST-MODIFIED:20240122T003105Z
UID:10007099-1714752000-1714755600@autumnsgate.com
SUMMARY:Horseback Riding 4pm-Ride
DESCRIPTION:Join the Adventure
URL:https://autumnsgate.com/event/horseback-riding-4pm-ride/2024-05-03/
LOCATION:Autumn’s Gate\, 1956 Balmer Road\, Ransomville\, NY\, 14131\, United States
CATEGORIES:Designed for Age: 16+,Designed for Ages: 12-16,Designed for Ages: 4+,Designed for Ages: 6-12,Horseback Riding
ATTACH;FMTTYPE=image/jpeg:https://autumnsgate.com/wp-content/uploads/2024/01/6-scaled.jpg
ORGANIZER;CN="Autumn's Gate":MAILTO:sales@autumnsgate.com
END:VEVENT
BEGIN:VEVENT
DTSTART;TZID=America/New_York:20240503T170000
DTEND;TZID=America/New_York:20240503T180000
DTSTAMP:20260425T075200
CREATED:20240120T003229Z
LAST-MODIFIED:20240122T003214Z
UID:10010218-1714755600-1714759200@autumnsgate.com
SUMMARY:Horseback Riding 5pm-Ride
DESCRIPTION:Join the Adventure
URL:https://autumnsgate.com/event/horseback-riding-5pm-ride/2024-05-03/
LOCATION:Autumn’s Gate\, 1956 Balmer Road\, Ransomville\, NY\, 14131\, United States
CATEGORIES:Designed for Age: 16+,Designed for Ages: 12-16,Designed for Ages: 4+,Designed for Ages: 6-12,Horseback Riding
ATTACH;FMTTYPE=image/jpeg:https://autumnsgate.com/wp-content/uploads/2024/01/1.jpg--scaled.jpg
ORGANIZER;CN="Autumn's Gate":MAILTO:sales@autumnsgate.com
END:VEVENT
BEGIN:VEVENT
DTSTART;TZID=America/New_York:20240504T090000
DTEND;TZID=America/New_York:20240504T100000
DTSTAMP:20260425T075200
CREATED:20240120T003946Z
LAST-MODIFIED:20240122T002027Z
UID:10022344-1714813200-1714816800@autumnsgate.com
SUMMARY:Horseback Riding 9am-Ride
DESCRIPTION:Join the Adventure
URL:https://autumnsgate.com/event/horseback-riding-9am-ride/2024-05-04/
LOCATION:Autumn’s Gate\, 1956 Balmer Road\, Ransomville\, NY\, 14131\, United States
CATEGORIES:Designed for Age: 16+,Designed for Ages: 12-16,Designed for Ages: 4+,Designed for Ages: 6-12,Horseback Riding
ATTACH;FMTTYPE=image/jpeg:https://autumnsgate.com/wp-content/uploads/2024/01/ready-to-ride-evnt-alt2-scaled.jpg
ORGANIZER;CN="Autumn's Gate":MAILTO:sales@autumnsgate.com
END:VEVENT
BEGIN:VEVENT
DTSTART;TZID=America/New_York:20240504T100000
DTEND;TZID=America/New_York:20240504T110000
DTSTAMP:20260425T075200
CREATED:20240120T011223Z
LAST-MODIFIED:20240122T002128Z
UID:10022445-1714816800-1714820400@autumnsgate.com
SUMMARY:Horseback Riding 10am-Ride
DESCRIPTION:Join the Adventure
URL:https://autumnsgate.com/event/horseback-riding-10am-ride-3/2024-05-04/
LOCATION:Autumn’s Gate\, 1956 Balmer Road\, Ransomville\, NY\, 14131\, United States
CATEGORIES:Designed for Age: 16+,Designed for Ages: 12-16,Designed for Ages: 4+,Designed for Ages: 6-12,Horseback Riding
ATTACH;FMTTYPE=image/jpeg:https://autumnsgate.com/wp-content/uploads/2024/01/9-scaled.jpg
ORGANIZER;CN="Autumn's Gate":MAILTO:sales@autumnsgate.com
END:VEVENT
BEGIN:VEVENT
DTSTART;TZID=America/New_York:20240504T110000
DTEND;TZID=America/New_York:20240504T120000
DTSTAMP:20260425T075200
CREATED:20240120T004835Z
LAST-MODIFIED:20240122T002209Z
UID:10022546-1714820400-1714824000@autumnsgate.com
SUMMARY:Horseback Riding 11am-Ride
DESCRIPTION:Join the Adventure
URL:https://autumnsgate.com/event/horseback-riding-11am-ride/2024-05-04/
LOCATION:Autumn’s Gate\, 1956 Balmer Road\, Ransomville\, NY\, 14131\, United States
CATEGORIES:Designed for Age: 16+,Designed for Ages: 12-16,Designed for Ages: 4+,Designed for Ages: 6-12,Horseback Riding
ATTACH;FMTTYPE=image/jpeg:https://autumnsgate.com/wp-content/uploads/2024/01/8-scaled.jpg
ORGANIZER;CN="Autumn's Gate":MAILTO:sales@autumnsgate.com
END:VEVENT
BEGIN:VEVENT
DTSTART;TZID=America/New_York:20240504T120000
DTEND;TZID=America/New_York:20240504T130000
DTSTAMP:20260425T075200
CREATED:20240120T004725Z
LAST-MODIFIED:20240122T002247Z
UID:10022647-1714824000-1714827600@autumnsgate.com
SUMMARY:Horseback Riding 12pm-Ride
DESCRIPTION:Join the Adventure
URL:https://autumnsgate.com/event/horseback-riding-10am-ride-2/2024-05-04/
LOCATION:Autumn’s Gate\, 1956 Balmer Road\, Ransomville\, NY\, 14131\, United States
CATEGORIES:Designed for Age: 16+,Designed for Ages: 12-16,Designed for Ages: 4+,Designed for Ages: 6-12,Horseback Riding
ATTACH;FMTTYPE=image/jpeg:https://autumnsgate.com/wp-content/uploads/2024/01/6-scaled.jpg
ORGANIZER;CN="Autumn's Gate":MAILTO:sales@autumnsgate.com
END:VEVENT
BEGIN:VEVENT
DTSTART;TZID=America/New_York:20240504T130000
DTEND;TZID=America/New_York:20240504T140000
DTSTAMP:20260425T075200
CREATED:20240120T005238Z
LAST-MODIFIED:20240122T002353Z
UID:10022908-1714827600-1714831200@autumnsgate.com
SUMMARY:Horseback Riding 1pm-Ride
DESCRIPTION:Join the Adventure
URL:https://autumnsgate.com/event/horseback-riding-1pm-ride/2024-05-04/
LOCATION:Autumn’s Gate\, 1956 Balmer Road\, Ransomville\, NY\, 14131\, United States
CATEGORIES:Designed for Age: 16+,Designed for Ages: 12-16,Designed for Ages: 4+,Designed for Ages: 6-12,Horseback Riding
ATTACH;FMTTYPE=image/jpeg:https://autumnsgate.com/wp-content/uploads/2024/01/1.jpg--scaled.jpg
ORGANIZER;CN="Autumn's Gate":MAILTO:sales@autumnsgate.com
END:VEVENT
BEGIN:VEVENT
DTSTART;TZID=America/New_York:20240504T140000
DTEND;TZID=America/New_York:20240504T150000
DTSTAMP:20260425T075200
CREATED:20240122T001712Z
LAST-MODIFIED:20240122T002455Z
UID:10023009-1714831200-1714834800@autumnsgate.com
SUMMARY:Horseback Riding 2pm-Ride
DESCRIPTION:Join the Adventure
URL:https://autumnsgate.com/event/horseback-riding-2pm-ride-3/2024-05-04/
LOCATION:Autumn’s Gate\, 1956 Balmer Road\, Ransomville\, NY\, 14131\, United States
CATEGORIES:Designed for Age: 16+,Designed for Ages: 12-16,Designed for Ages: 4+,Designed for Ages: 6-12,Horseback Riding
ATTACH;FMTTYPE=image/jpeg:https://autumnsgate.com/wp-content/uploads/2024/01/rider-and-horse-scaled.jpg
ORGANIZER;CN="Autumn's Gate":MAILTO:sales@autumnsgate.com
END:VEVENT
BEGIN:VEVENT
DTSTART;TZID=America/New_York:20240504T150000
DTEND;TZID=America/New_York:20240504T160000
DTSTAMP:20260425T075200
CREATED:20240119T222936Z
LAST-MODIFIED:20240122T002933Z
UID:10002397-1714834800-1714838400@autumnsgate.com
SUMMARY:Horseback Riding 3pm-Ride
DESCRIPTION:Join the Adventure
URL:https://autumnsgate.com/event/horseback-riding/2024-05-04/
LOCATION:Autumn’s Gate\, 1956 Balmer Road\, Ransomville\, NY\, 14131\, United States
CATEGORIES:Designed for Age: 16+,Designed for Ages: 12-16,Designed for Ages: 4+,Designed for Ages: 6-12,Horseback Riding
ATTACH;FMTTYPE=image/jpeg:https://autumnsgate.com/wp-content/uploads/2024/01/ready-to-ride-scaled.jpg
ORGANIZER;CN="Autumn's Gate":MAILTO:sales@autumnsgate.com
END:VEVENT
BEGIN:VEVENT
DTSTART;TZID=America/New_York:20240504T160000
DTEND;TZID=America/New_York:20240504T170000
DTSTAMP:20260425T075200
CREATED:20240119T231144Z
LAST-MODIFIED:20240122T003105Z
UID:10007100-1714838400-1714842000@autumnsgate.com
SUMMARY:Horseback Riding 4pm-Ride
DESCRIPTION:Join the Adventure
URL:https://autumnsgate.com/event/horseback-riding-4pm-ride/2024-05-04/
LOCATION:Autumn’s Gate\, 1956 Balmer Road\, Ransomville\, NY\, 14131\, United States
CATEGORIES:Designed for Age: 16+,Designed for Ages: 12-16,Designed for Ages: 4+,Designed for Ages: 6-12,Horseback Riding
ATTACH;FMTTYPE=image/jpeg:https://autumnsgate.com/wp-content/uploads/2024/01/6-scaled.jpg
ORGANIZER;CN="Autumn's Gate":MAILTO:sales@autumnsgate.com
END:VEVENT
BEGIN:VEVENT
DTSTART;TZID=America/New_York:20240504T170000
DTEND;TZID=America/New_York:20240504T180000
DTSTAMP:20260425T075200
CREATED:20240120T003229Z
LAST-MODIFIED:20240122T003214Z
UID:10010219-1714842000-1714845600@autumnsgate.com
SUMMARY:Horseback Riding 5pm-Ride
DESCRIPTION:Join the Adventure
URL:https://autumnsgate.com/event/horseback-riding-5pm-ride/2024-05-04/
LOCATION:Autumn’s Gate\, 1956 Balmer Road\, Ransomville\, NY\, 14131\, United States
CATEGORIES:Designed for Age: 16+,Designed for Ages: 12-16,Designed for Ages: 4+,Designed for Ages: 6-12,Horseback Riding
ATTACH;FMTTYPE=image/jpeg:https://autumnsgate.com/wp-content/uploads/2024/01/1.jpg--scaled.jpg
ORGANIZER;CN="Autumn's Gate":MAILTO:sales@autumnsgate.com
END:VEVENT
BEGIN:VEVENT
DTSTART;TZID=America/New_York:20240505T090000
DTEND;TZID=America/New_York:20240505T100000
DTSTAMP:20260425T075200
CREATED:20240120T003946Z
LAST-MODIFIED:20240122T002027Z
UID:10017474-1714899600-1714903200@autumnsgate.com
SUMMARY:Horseback Riding 9am-Ride
DESCRIPTION:Join the Adventure
URL:https://autumnsgate.com/event/horseback-riding-9am-ride/2024-05-05/
LOCATION:Autumn’s Gate\, 1956 Balmer Road\, Ransomville\, NY\, 14131\, United States
CATEGORIES:Designed for Age: 16+,Designed for Ages: 12-16,Designed for Ages: 4+,Designed for Ages: 6-12,Horseback Riding
ATTACH;FMTTYPE=image/jpeg:https://autumnsgate.com/wp-content/uploads/2024/01/ready-to-ride-evnt-alt2-scaled.jpg
ORGANIZER;CN="Autumn's Gate":MAILTO:sales@autumnsgate.com
END:VEVENT
BEGIN:VEVENT
DTSTART;TZID=America/New_York:20240505T110000
DTEND;TZID=America/New_York:20240505T120000
DTSTAMP:20260425T075200
CREATED:20240120T004835Z
LAST-MODIFIED:20240122T002209Z
UID:10018784-1714906800-1714910400@autumnsgate.com
SUMMARY:Horseback Riding 11am-Ride
DESCRIPTION:Join the Adventure
URL:https://autumnsgate.com/event/horseback-riding-11am-ride/2024-05-05/
LOCATION:Autumn’s Gate\, 1956 Balmer Road\, Ransomville\, NY\, 14131\, United States
CATEGORIES:Designed for Age: 16+,Designed for Ages: 12-16,Designed for Ages: 4+,Designed for Ages: 6-12,Horseback Riding
ATTACH;FMTTYPE=image/jpeg:https://autumnsgate.com/wp-content/uploads/2024/01/8-scaled.jpg
ORGANIZER;CN="Autumn's Gate":MAILTO:sales@autumnsgate.com
END:VEVENT
BEGIN:VEVENT
DTSTART;TZID=America/New_York:20240505T120000
DTEND;TZID=America/New_York:20240505T130000
DTSTAMP:20260425T075200
CREATED:20240120T004725Z
LAST-MODIFIED:20240122T002247Z
UID:10019046-1714910400-1714914000@autumnsgate.com
SUMMARY:Horseback Riding 12pm-Ride
DESCRIPTION:Join the Adventure
URL:https://autumnsgate.com/event/horseback-riding-10am-ride-2/2024-05-05/
LOCATION:Autumn’s Gate\, 1956 Balmer Road\, Ransomville\, NY\, 14131\, United States
CATEGORIES:Designed for Age: 16+,Designed for Ages: 12-16,Designed for Ages: 4+,Designed for Ages: 6-12,Horseback Riding
ATTACH;FMTTYPE=image/jpeg:https://autumnsgate.com/wp-content/uploads/2024/01/6-scaled.jpg
ORGANIZER;CN="Autumn's Gate":MAILTO:sales@autumnsgate.com
END:VEVENT
BEGIN:VEVENT
DTSTART;TZID=America/New_York:20240505T130000
DTEND;TZID=America/New_York:20240505T140000
DTSTAMP:20260425T075200
CREATED:20240120T005238Z
LAST-MODIFIED:20240122T002353Z
UID:10019570-1714914000-1714917600@autumnsgate.com
SUMMARY:Horseback Riding 1pm-Ride
DESCRIPTION:Join the Adventure
URL:https://autumnsgate.com/event/horseback-riding-1pm-ride/2024-05-05/
LOCATION:Autumn’s Gate\, 1956 Balmer Road\, Ransomville\, NY\, 14131\, United States
CATEGORIES:Designed for Age: 16+,Designed for Ages: 12-16,Designed for Ages: 4+,Designed for Ages: 6-12,Horseback Riding
ATTACH;FMTTYPE=image/jpeg:https://autumnsgate.com/wp-content/uploads/2024/01/1.jpg--scaled.jpg
ORGANIZER;CN="Autumn's Gate":MAILTO:sales@autumnsgate.com
END:VEVENT
BEGIN:VEVENT
DTSTART;TZID=America/New_York:20240505T140000
DTEND;TZID=America/New_York:20240505T150000
DTSTAMP:20260425T075200
CREATED:20240122T001712Z
LAST-MODIFIED:20240122T002455Z
UID:10022243-1714917600-1714921200@autumnsgate.com
SUMMARY:Horseback Riding 2pm-Ride
DESCRIPTION:Join the Adventure
URL:https://autumnsgate.com/event/horseback-riding-2pm-ride-3/2024-05-05/
LOCATION:Autumn’s Gate\, 1956 Balmer Road\, Ransomville\, NY\, 14131\, United States
CATEGORIES:Designed for Age: 16+,Designed for Ages: 12-16,Designed for Ages: 4+,Designed for Ages: 6-12,Horseback Riding
ATTACH;FMTTYPE=image/jpeg:https://autumnsgate.com/wp-content/uploads/2024/01/rider-and-horse-scaled.jpg
ORGANIZER;CN="Autumn's Gate":MAILTO:sales@autumnsgate.com
END:VEVENT
BEGIN:VEVENT
DTSTART;TZID=America/New_York:20240505T150000
DTEND;TZID=America/New_York:20240505T160000
DTSTAMP:20260425T075200
CREATED:20240119T222936Z
LAST-MODIFIED:20240122T002933Z
UID:10002398-1714921200-1714924800@autumnsgate.com
SUMMARY:Horseback Riding 3pm-Ride
DESCRIPTION:Join the Adventure
URL:https://autumnsgate.com/event/horseback-riding/2024-05-05/
LOCATION:Autumn’s Gate\, 1956 Balmer Road\, Ransomville\, NY\, 14131\, United States
CATEGORIES:Designed for Age: 16+,Designed for Ages: 12-16,Designed for Ages: 4+,Designed for Ages: 6-12,Horseback Riding
ATTACH;FMTTYPE=image/jpeg:https://autumnsgate.com/wp-content/uploads/2024/01/ready-to-ride-scaled.jpg
ORGANIZER;CN="Autumn's Gate":MAILTO:sales@autumnsgate.com
END:VEVENT
BEGIN:VEVENT
DTSTART;TZID=America/New_York:20240505T160000
DTEND;TZID=America/New_York:20240505T170000
DTSTAMP:20260425T075200
CREATED:20240119T231144Z
LAST-MODIFIED:20240122T003105Z
UID:10007101-1714924800-1714928400@autumnsgate.com
SUMMARY:Horseback Riding 4pm-Ride
DESCRIPTION:Join the Adventure
URL:https://autumnsgate.com/event/horseback-riding-4pm-ride/2024-05-05/
LOCATION:Autumn’s Gate\, 1956 Balmer Road\, Ransomville\, NY\, 14131\, United States
CATEGORIES:Designed for Age: 16+,Designed for Ages: 12-16,Designed for Ages: 4+,Designed for Ages: 6-12,Horseback Riding
ATTACH;FMTTYPE=image/jpeg:https://autumnsgate.com/wp-content/uploads/2024/01/6-scaled.jpg
ORGANIZER;CN="Autumn's Gate":MAILTO:sales@autumnsgate.com
END:VEVENT
BEGIN:VEVENT
DTSTART;TZID=America/New_York:20240507T150000
DTEND;TZID=America/New_York:20240507T160000
DTSTAMP:20260425T075200
CREATED:20240119T222936Z
LAST-MODIFIED:20240122T002933Z
UID:10023156-1715094000-1715097600@autumnsgate.com
SUMMARY:Horseback Riding 3pm-Ride
DESCRIPTION:Join the Adventure
URL:https://autumnsgate.com/event/horseback-riding/2024-05-07/
LOCATION:Autumn’s Gate\, 1956 Balmer Road\, Ransomville\, NY\, 14131\, United States
CATEGORIES:Designed for Age: 16+,Designed for Ages: 12-16,Designed for Ages: 4+,Designed for Ages: 6-12,Horseback Riding
ATTACH;FMTTYPE=image/jpeg:https://autumnsgate.com/wp-content/uploads/2024/01/ready-to-ride-scaled.jpg
ORGANIZER;CN="Autumn's Gate":MAILTO:sales@autumnsgate.com
END:VEVENT
END:VCALENDAR